Workbook
Name Joukkueet: Kotipelimaalit[Joukkue]
Name KA_hävityt_kotona: Maalit!$F$8
Name KA_hävityt_vieraissa: Maalit!$M$8
Name KA_tehdyt_kotona: Maalit!$D$8
Name KA_tehdyt_vieraissa: Maalit!$K$8
Name Slicer_Kausi: #N/A

Sheet Kaikki matsit
A1: Syötä/kopioi matsit A-C -sarakkeisiin ja kerro solussa C5, mitä erotinmerkkiä tuloksissa on käytetty. D ja E -sarakkeissa on kaavat, jotka poimivat maalien lukumäärät sarakkeisiin.
A2: Jos kopioit, käytä komentoa Paste Special > Values (Liitä määräten > Arvot) tai valitse kopioinnin jälkeen toimintopainikkeen avulla Käytä kohdealueen muotoiluita (Match Destination formatting).
A3: Syötä myös kausi F-sarakkeeseen, jotta voit määrittää sen avulla, miltä aikajaksolta ottelut huomioidaan. Kausi pitää syöttää lukuna, joten käytä esim. vuotta, jona kausi on alkanut.
A4: Kaikki tämän luettelon ottelut ovat mukana todennäköisyysennusteessa.
B5: Syötä tuloksissa käytetty erotinmerkki | C5: -
A7: Kaikki_matsit -taulukko:
A8: Koti | B8: Vieras | C8: Tulos | D8: Kotimaalit | E8: Vierasmaalit | F8: Kausi | H8: Työkirja on laadittu tämän sivun ohjeiden perusteella, joten suosittelen lukemaan:
A9: Arsenal | B9: Aston Villa | C9: 1-3 | D9: =VALUE(TRIM(LEFT(Kaikki_matsit[[#This Row],[Tulos]], FIND($C$5,Kaikki_matsit[[#This Row],[Tulos]],1)-1))) -> 1 | E9: =VALUE(TRIM(MID(Kaikki_matsit[[#This Row],[Tulos]], FIND($C$5,Kaikki_matsit[[#This Row],[Tulos]],1)+1,10))) -> 3 | F9: 2013 | H9: http://www.sportsbettingonline.net/strategy/football-prediction-model-poisson-distribution/
A10: Arsenal | B10: Cardiff City | C10: 2-0 | D10: =VALUE(TRIM(LEFT(Kaikki_matsit[[#This Row],[Tulos]], FIND($C$5,Kaikki_matsit[[#This Row],[Tulos]],1)-1))) -> 2 | E10: =VALUE(TRIM(MID(Kaikki_matsit[[#This Row],[Tulos]], FIND($C$5,Kaikki_matsit[[#This Row],[Tulos]],1)+1,10))) -> 0 | F10: 2013
A11: Arsenal | B11: Chelsea | C11: 0-0 | D11: =VALUE(TRIM(LEFT(Kaikki_matsit[[#This Row],[Tulos]], FIND($C$5,Kaikki_matsit[[#This Row],[Tulos]],1)-1))) -> 0 | E11: =VALUE(TRIM(MID(Kaikki_matsit[[#This Row],[Tulos]], FIND($C$5,Kaikki_matsit[[#This Row],[Tulos]],1)+1,10))) -> 0 | F11: 2013 | H11: Tässä esimerkkityökirjassa aineistona on käytetty English Premier League -matseja kaudelta 2013/14.
A12: Arsenal | B12: Crystal Palace | C12: 2-0 | D12: =VALUE(TRIM(LEFT(Kaikki_matsit[[#This Row],[Tulos]], FIND($C$5,Kaikki_matsit[[#This Row],[Tulos]],1)-1))) -> 2 | E12: =VALUE(TRIM(MID(Kaikki_matsit[[#This Row],[Tulos]], FIND($C$5,Kaikki_matsit[[#This Row],[Tulos]],1)+1,10))) -> 0 | F12: 2013
A13: Arsenal | B13: Everton | C13: 1-1 | D13: =VALUE(TRIM(LEFT(Kaikki_matsit[[#This Row],[Tulos]], FIND($C$5,Kaikki_matsit[[#This Row],[Tulos]],1)-1))) -> 1 | E13: =VALUE(TRIM(MID(Kaikki_matsit[[#This Row],[Tulos]], FIND($C$5,Kaikki_matsit[[#This Row],[Tulos]],1)+1,10))) -> 1 | F13: 2013 | H13: Käyttö omalla vastuulla.
A14: Arsenal | B14: Fulham | C14: 2-0 | D14: =VALUE(TRIM(LEFT(Kaikki_matsit[[#This Row],[Tulos]], FIND($C$5,Kaikki_matsit[[#This Row],[Tulos]],1)-1))) -> 2 | E14: =VALUE(TRIM(MID(Kaikki_matsit[[#This Row],[Tulos]], FIND($C$5,Kaikki_matsit[[#This Row],[Tulos]],1)+1,10))) -> 0 | F14: 2013
A15: Arsenal | B15: Hull City | C15: 2-0 | D15: =VALUE(TRIM(LEFT(Kaikki_matsit[[#This Row],[Tulos]], FIND($C$5,Kaikki_matsit[[#This Row],[Tulos]],1)-1))) -> 2 | E15: =VALUE(TRIM(MID(Kaikki_matsit[[#This Row],[Tulos]], FIND($C$5,Kaikki_matsit[[#This Row],[Tulos]],1)+1,10))) -> 0 | F15: 2013 | H15: Työkirja liittyy Hexcelligent-juttuun:
A16: Arsenal | B16: Liverpool | C16: 2-0 | D16: =VALUE(TRIM(LEFT(Kaikki_matsit[[#This Row],[Tulos]], FIND($C$5,Kaikki_matsit[[#This Row],[Tulos]],1)-1))) -> 2 | E16: =VALUE(TRIM(MID(Kaikki_matsit[[#This Row],[Tulos]], FIND($C$5,Kaikki_matsit[[#This Row],[Tulos]],1)+1,10))) -> 0 | F16: 2013 | H16: http://hexcelligent.fi/2014/10/19/pitkaveto-1-x-2-ennuste-excelilla
A17: Arsenal | B17: Manchester City | C17: 1-1 | D17: =VALUE(TRIM(LEFT(Kaikki_matsit[[#This Row],[Tulos]], FIND($C$5,Kaikki_matsit[[#This Row],[Tulos]],1)-1))) -> 1 | E17: =VALUE(TRIM(MID(Kaikki_matsit[[#This Row],[Tulos]], FIND($C$5,Kaikki_matsit[[#This Row],[Tulos]],1)+1,10))) -> 1 | F17: 2013
A18: Arsenal | B18: Manchester United | C18: 0-0 | D18: =VALUE(TRIM(LEFT(Kaikki_matsit[[#This Row],[Tulos]], FIND($C$5,Kaikki_matsit[[#This Row],[Tulos]],1)-1))) -> 0 | E18: =VALUE(TRIM(MID(Kaikki_matsit[[#This Row],[Tulos]], FIND($C$5,Kaikki_matsit[[#This Row],[Tulos]],1)+1,10))) -> 0 | F18: 2013
A19: Arsenal | B19: Newcastle United | C19: 3-0 | D19: =VALUE(TRIM(LEFT(Kaikki_matsit[[#This Row],[Tulos]], FIND($C$5,Kaikki_matsit[[#This Row],[Tulos]],1)-1))) -> 3 | E19: =VALUE(TRIM(MID(Kaikki_matsit[[#This Row],[Tulos]], FIND($C$5,Kaikki_matsit[[#This Row],[Tulos]],1)+1,10))) -> 0 | F19: 2013 | H19: Tässä versio 2:ssa kausi on muutettu luvuksi, jotta sen avulla voi seuraavassa taulukossa valita,
A20: Arsenal | B20: Norwich City | C20: 4-1 | D20: =VALUE(TRIM(LEFT(Kaikki_matsit[[#This Row],[Tulos]], FIND($C$5,Kaikki_matsit[[#This Row],[Tulos]],1)-1))) -> 4 | E20: =VALUE(TRIM(MID(Kaikki_matsit[[#This Row],[Tulos]], FIND($C$5,Kaikki_matsit[[#This Row],[Tulos]],1)+1,10))) -> 1 | F20: 2013 | H20: mistä kaudesta lähtien ottelut huomioidaan ennusteessa.
A21: Arsenal | B21: Southampton | C21: 2-0 | D21: =VALUE(TRIM(LEFT(Kaikki_matsit[[#This Row],[Tulos]], FIND($C$5,Kaikki_matsit[[#This Row],[Tulos]],1)-1))) -> 2 | E21: =VALUE(TRIM(MID(Kaikki_matsit[[#This Row],[Tulos]], FIND($C$5,Kaikki_matsit[[#This Row],[Tulos]],1)+1,10))) -> 0 | F21: 2013
A22: Arsenal | B22: Stoke City | C22: 3-1 | D22: =VALUE(TRIM(LEFT(Kaikki_matsit[[#This Row],[Tulos]], FIND($C$5,Kaikki_matsit[[#This Row],[Tulos]],1)-1))) -> 3 | E22: =VALUE(TRIM(MID(Kaikki_matsit[[#This Row],[Tulos]], FIND($C$5,Kaikki_matsit[[#This Row],[Tulos]],1)+1,10))) -> 1 | F22: 2013
A23: Arsenal | B23: Sunderland | C23: 4-1 | D23: =VALUE(TRIM(LEFT(Kaikki_matsit[[#This Row],[Tulos]], FIND($C$5,Kaikki_matsit[[#This Row],[Tulos]],1)-1))) -> 4 | E23: =VALUE(TRIM(MID(Kaikki_matsit[[#This Row],[Tulos]], FIND($C$5,Kaikki_matsit[[#This Row],[Tulos]],1)+1,10))) -> 1 | F23: 2013
A24: Arsenal | B24: Swansea City | C24: 2-2 | D24: =VALUE(TRIM(LEFT(Kaikki_matsit[[#This Row],[Tulos]], FIND($C$5,Kaikki_matsit[[#This Row],[Tulos]],1)-1))) -> 2 | E24: =VALUE(TRIM(MID(Kaikki_matsit[[#This Row],[Tulos]], FIND($C$5,Kaikki_matsit[[#This Row],[Tulos]],1)+1,10))) -> 2 | F24: 2013
A25: Arsenal | B25: Tottenham Hotspur | C25: 1-0 | D25: =VALUE(TRIM(LEFT(Kaikki_matsit[[#This Row],[Tulos]], FIND($C$5,Kaikki_matsit[[#This Row],[Tulos]],1)-1))) -> 1 | E25: =VALUE(TRIM(MID(Kaikki_matsit[[#This Row],[Tulos]], FIND($C$5,Kaikki_matsit[[#This Row],[Tulos]],1)+1,10))) -> 0 | F25: 2013
A26: Arsenal | B26: West Bromwich Albion | C26: 1-0 | D26: =VALUE(TRIM(LEFT(Kaikki_matsit[[#This Row],[Tulos]], FIND($C$5,Kaikki_matsit[[#This Row],[Tulos]],1)-1))) -> 1 | E26: =VALUE(TRIM(MID(Kaikki_matsit[[#This Row],[Tulos]], FIND($C$5,Kaikki_matsit[[#This Row],[Tulos]],1)+1,10))) -> 0 | F26: 2013
A27: Arsenal | B27: West Ham United | C27: 3-1 | D27: =VALUE(TRIM(LEFT(Kaikki_matsit[[#This Row],[Tulos]], FIND($C$5,Kaikki_matsit[[#This Row],[Tulos]],1)-1))) -> 3 | E27: =VALUE(TRIM(MID(Kaikki_matsit[[#This Row],[Tulos]], FIND($C$5,Kaikki_matsit[[#This Row],[Tulos]],1)+1,10))) -> 1 | F27: 2013
A28: Aston Villa | B28: Arsenal | C28: 1-2 | D28: =VALUE(TRIM(LEFT(Kaikki_matsit[[#This Row],[Tulos]], FIND($C$5,Kaikki_matsit[[#This Row],[Tulos]],1)-1))) -> 1 | E28: =VALUE(TRIM(MID(Kaikki_matsit[[#This Row],[Tulos]], FIND($C$5,Kaikki_matsit[[#This Row],[Tulos]],1)+1,10))) -> 2 | F28: 2013
A29: Aston Villa | B29: Cardiff City | C29: 2-0 | D29: =VALUE(TRIM(LEFT(Kaikki_matsit[[#This Row],[Tulos]], FIND($C$5,Kaikki_matsit[[#This Row],[Tulos]],1)-1))) -> 2 | E29: =VALUE(TRIM(MID(Kaikki_matsit[[#This Row],[Tulos]], FIND($C$5,Kaikki_matsit[[#This Row],[Tulos]],1)+1,10))) -> 0 | F29: 2013
A30: Aston Villa | B30: Chelsea | C30: 1-0 | D30: =VALUE(TRIM(LEFT(Kaikki_matsit[[#This Row],[Tulos]], FIND($C$5,Kaikki_matsit[[#This Row],[Tulos]],1)-1))) -> 1 | E30: =VALUE(TRIM(MID(Kaikki_matsit[[#This Row],[Tulos]], FIND($C$5,Kaikki_matsit[[#This Row],[Tulos]],1)+1,10))) -> 0 | F30: 2013
A31: Aston Villa | B31: Crystal Palace | C31: 0-1 | D31: =VALUE(TRIM(LEFT(Kaikki_matsit[[#This Row],[Tulos]], FIND($C$5,Kaikki_matsit[[#This Row],[Tulos]],1)-1))) -> 0 | E31: =VALUE(TRIM(MID(Kaikki_matsit[[#This Row],[Tulos]], FIND($C$5,Kaikki_matsit[[#This Row],[Tulos]],1)+1,10))) -> 1 | F31: 2013
A32: Aston Villa | B32: Everton | C32: 0-2 | D32: =VALUE(TRIM(LEFT(Kaikki_matsit[[#This Row],[Tulos]], FIND($C$5,Kaikki_matsit[[#This Row],[Tulos]],1)-1))) -> 0 | E32: =VALUE(TRIM(MID(Kaikki_matsit[[#This Row],[Tulos]], FIND($C$5,Kaikki_matsit[[#This Row],[Tulos]],1)+1,10))) -> 2 | F32: 2013
... A768: West Ham United | B768: West Bromwich Albion | C768: 3-3 | D768: =VALUE(TRIM(LEFT(Kaikki_matsit[[#This Row],[Tulos]], FIND($C$5,Kaikki_matsit[[#This Row],[Tulos]],1)-1))) -> 3 | E768: =VALUE(TRIM(MID(Kaikki_matsit[[#This Row],[Tulos]], FIND($C$5,Kaikki_matsit[[#This Row],[Tulos]],1)+1,10))) -> 3 | F768: 2014

Sheet Sarjataulukko
A1: Sarjataulukko | J1: Syötä voittopisteiden määrä | K1: 3
J2: Syötä tasapelipisteiden määrä | K2: 1
C3: Valitse yksi kausi | D3: 2013 | F3: Huom! Kausien 2013 ja 2014 luvut temmattu hatusta. | M3: Tietoja ja ohjeita:
D4: Määrät | M4: Sarjataulukon otsikot eli C-sarake on toteutettu pivotin avulla, jotta datasta saadaan päivitettyä oikeat joukkueet eikä niitä tarvitse kopioida sarjataulukkoon.
C5: Joukkue | D5: Pelit | E5: Voitot | F5: Tasapelit | G5: Häviöt | H5: Tehdyt maalit | I5: Päästetyt maalit | J5: Maaliero | K5: Pisteet | M5: Kun kaikki matsit -dataan tulee uusia rivejä, napsauta C-sarakkeessa otsikoiden päällä ja valitse pikavalikosta (shortcut menu) Päivitä (Refresh).
C6: Arsenal | D6: =COUNTIFS(Kaikki_matsit[Koti],C6, Kaikki_matsit[Kausi],$D$3) + COUNTIFS(Kaikki_matsit[Vieras],C6, Kaikki_matsit[Kausi],$D$3) + N("kommentti: kotimatsit + vierasmatsit") -> 38 | E6: {=SUM( IF( (Kaikki_matsit[Kotimaalit]>Kaikki_matsit[Vierasmaalit]) * (Kaikki_matsit[Koti]=C6) * (Kaikki_matsit[Kausi]=$D$3), 1, 0)) + SUM( IF( (Kaikki_matsit[Vierasmaalit]>Kaikki_matsit[Kotimaalit]) * (Kaikki_matsit[Vieras]=C6) * (Kaikki_matsit[Kausi]=$D$3), 1, 0))} -> 24 | F6: {=SUM( IF( (Kaikki_matsit[Kotimaalit]=Kaikki_matsit[Vierasmaalit]) * (Kaikki_matsit[Koti]=C6) * (Kaikki_matsit[Kausi]=$D$3), 1, 0)) + SUM( IF( (Kaikki_matsit[Vierasmaalit]=Kaikki_matsit[Kotimaalit]) * (Kaikki_matsit[Vieras]=C6) * (Kaikki_matsit[Kausi]=$D$3), 1, 0))} -> 7 | G6: {=SUM( IF( (Kaikki_matsit[Kotimaalit]<Kaikki_matsit[Vierasmaalit]) * (Kaikki_matsit[Koti]=C6) * (Kaikki_matsit[Kausi]=$D$3), 1, 0)) + SUM( IF( (Kaikki_matsit[Vierasmaalit]<Kaikki_matsit[Kotimaalit]) * (Kaikki_matsit[Vieras]=C6) * (Kaikki_matsit[Kausi]=$D$3), 1, 0))} -> 7 | H6: =SUMIFS( Kaikki_matsit[Kotimaalit], Kaikki_matsit[Koti], C6, Kaikki_matsit[Kausi],$D$3) + SUMIFS( Kaikki_matsit[Vierasmaalit], Kaikki_matsit[Vieras], C6, Kaikki_matsit[Kausi],$D$3) -> 68 | I6: =SUMIFS( Kaikki_matsit[Kotimaalit], Kaikki_matsit[Vieras], C6, Kaikki_matsit[Kausi],$D$3) + SUMIFS( Kaikki_matsit[Vierasmaalit], Kaikki_matsit[Koti], C6, Kaikki_matsit[Kausi],$D$3) -> 41 | J6: =H6-I6 -> 27 | K6: =$K$1*E6 + $K$2*F6 -> 79 | M6: Sarjataulukon luvut on toteutettu pivotin otsikoiden rinnalle kaavoina (sarakkeisiin D-K), sillä tässä tarvittavia lukuja ei pysty laskemaan pivotin avulla.
C7: Aston Villa | D7: =COUNTIFS(Kaikki_matsit[Koti],C7, Kaikki_matsit[Kausi],$D$3) + COUNTIFS(Kaikki_matsit[Vieras],C7, Kaikki_matsit[Kausi],$D$3) + N("kommentti: kotimatsit + vierasmatsit") -> 38 | E7: {=SUM( IF( (Kaikki_matsit[Kotimaalit]>Kaikki_matsit[Vierasmaalit]) * (Kaikki_matsit[Koti]=C7) * (Kaikki_matsit[Kausi]=$D$3), 1, 0)) + SUM( IF( (Kaikki_matsit[Vierasmaalit]>Kaikki_matsit[Kotimaalit]) * (Kaikki_matsit[Vieras]=C7) * (Kaikki_matsit[Kausi]=$D$3), 1, 0))} -> 10 | F7: {=SUM( IF( (Kaikki_matsit[Kotimaalit]=Kaikki_matsit[Vierasmaalit]) * (Kaikki_matsit[Koti]=C7) * (Kaikki_matsit[Kausi]=$D$3), 1, 0)) + SUM( IF( (Kaikki_matsit[Vierasmaalit]=Kaikki_matsit[Kotimaalit]) * (Kaikki_matsit[Vieras]=C7) * (Kaikki_matsit[Kausi]=$D$3), 1, 0))} -> 8 | G7: {=SUM( IF( (Kaikki_matsit[Kotimaalit]<Kaikki_matsit[Vierasmaalit]) * (Kaikki_matsit[Koti]=C7) * (Kaikki_matsit[Kausi]=$D$3), 1, 0)) + SUM( IF( (Kaikki_matsit[Vierasmaalit]<Kaikki_matsit[Kotimaalit]) * (Kaikki_matsit[Vieras]=C7) * (Kaikki_matsit[Kausi]=$D$3), 1, 0))} -> 20 | H7: =SUMIFS( Kaikki_matsit[Kotimaalit], Kaikki_matsit[Koti], C7, Kaikki_matsit[Kausi],$D$3) + SUMIFS( Kaikki_matsit[Vierasmaalit], Kaikki_matsit[Vieras], C7, Kaikki_matsit[Kausi],$D$3) -> 39 | I7: =SUMIFS( Kaikki_matsit[Kotimaalit], Kaikki_matsit[Vieras], C7, Kaikki_matsit[Kausi],$D$3) + SUMIFS( Kaikki_matsit[Vierasmaalit], Kaikki_matsit[Koti], C7, Kaikki_matsit[Kausi],$D$3) -> 61 | J7: =H7-I7 -> -22 | K7: =$K$1*E7 + $K$2*F7 -> 38 | M7: Osa kaavoista on matriisikaavoja (voitot, tasapelit ja häviöt), joten kaavoissa näkyy aaltosulkeet ympärillä {}.
C8: Cardiff City | D8: =COUNTIFS(Kaikki_matsit[Koti],C8, Kaikki_matsit[Kausi],$D$3) + COUNTIFS(Kaikki_matsit[Vieras],C8, Kaikki_matsit[Kausi],$D$3) + N("kommentti: kotimatsit + vierasmatsit") -> 38 | E8: {=SUM( IF( (Kaikki_matsit[Kotimaalit]>Kaikki_matsit[Vierasmaalit]) * (Kaikki_matsit[Koti]=C8) * (Kaikki_matsit[Kausi]=$D$3), 1, 0)) + SUM( IF( (Kaikki_matsit[Vierasmaalit]>Kaikki_matsit[Kotimaalit]) * (Kaikki_matsit[Vieras]=C8) * (Kaikki_matsit[Kausi]=$D$3), 1, 0))} -> 7 | F8: {=SUM( IF( (Kaikki_matsit[Kotimaalit]=Kaikki_matsit[Vierasmaalit]) * (Kaikki_matsit[Koti]=C8) * (Kaikki_matsit[Kausi]=$D$3), 1, 0)) + SUM( IF( (Kaikki_matsit[Vierasmaalit]=Kaikki_matsit[Kotimaalit]) * (Kaikki_matsit[Vieras]=C8) * (Kaikki_matsit[Kausi]=$D$3), 1, 0))} -> 9 | G8: {=SUM( IF( (Kaikki_matsit[Kotimaalit]<Kaikki_matsit[Vierasmaalit]) * (Kaikki_matsit[Koti]=C8) * (Kaikki_matsit[Kausi]=$D$3), 1, 0)) + SUM( IF( (Kaikki_matsit[Vierasmaalit]<Kaikki_matsit[Kotimaalit]) * (Kaikki_matsit[Vieras]=C8) * (Kaikki_matsit[Kausi]=$D$3), 1, 0))} -> 22 | H8: =SUMIFS( Kaikki_matsit[Kotimaalit], Kaikki_matsit[Koti], C8, Kaikki_matsit[Kausi],$D$3) + SUMIFS( Kaikki_matsit[Vierasmaalit], Kaikki_matsit[Vieras], C8, Kaikki_matsit[Kausi],$D$3) -> 32 | I8: =SUMIFS( Kaikki_matsit[Kotimaalit], Kaikki_matsit[Vieras], C8, Kaikki_matsit[Kausi],$D$3) + SUMIFS( Kaikki_matsit[Vierasmaalit], Kaikki_matsit[Koti], C8, Kaikki_matsit[Kausi],$D$3) -> 74 | J8: =H8-I8 -> -42 | K8: =$K$1*E8 + $K$2*F8 -> 30 | M8: Matriisikaavat pitää hyväksyä Ctrl + Shift + Enter -näppäinyhdistelmällä, jos muokkaat niitä tai yrität tehdä vastaavia kaavoja jonnekin muualle.
C9: Chelsea | D9: =COUNTIFS(Kaikki_matsit[Koti],C9, Kaikki_matsit[Kausi],$D$3) + COUNTIFS(Kaikki_matsit[Vieras],C9, Kaikki_matsit[Kausi],$D$3) + N("kommentti: kotimatsit + vierasmatsit") -> 38 | E9: {=SUM( IF( (Kaikki_matsit[Kotimaalit]>Kaikki_matsit[Vierasmaalit]) * (Kaikki_matsit[Koti]=C9) * (Kaikki_matsit[Kausi]=$D$3), 1, 0)) + SUM( IF( (Kaikki_matsit[Vierasmaalit]>Kaikki_matsit[Kotimaalit]) * (Kaikki_matsit[Vieras]=C9) * (Kaikki_matsit[Kausi]=$D$3), 1, 0))} -> 25 | F9: {=SUM( IF( (Kaikki_matsit[Kotimaalit]=Kaikki_matsit[Vierasmaalit]) * (Kaikki_matsit[Koti]=C9) * (Kaikki_matsit[Kausi]=$D$3), 1, 0)) + SUM( IF( (Kaikki_matsit[Vierasmaalit]=Kaikki_matsit[Kotimaalit]) * (Kaikki_matsit[Vieras]=C9) * (Kaikki_matsit[Kausi]=$D$3), 1, 0))} -> 7 | G9: {=SUM( IF( (Kaikki_matsit[Kotimaalit]<Kaikki_matsit[Vierasmaalit]) * (Kaikki_matsit[Koti]=C9) * (Kaikki_matsit[Kausi]=$D$3), 1, 0)) + SUM( IF( (Kaikki_matsit[Vierasmaalit]<Kaikki_matsit[Kotimaalit]) * (Kaikki_matsit[Vieras]=C9) * (Kaikki_matsit[Kausi]=$D$3), 1, 0))} -> 6 | H9: =SUMIFS( Kaikki_matsit[Kotimaalit], Kaikki_matsit[Koti], C9, Kaikki_matsit[Kausi],$D$3) + SUMIFS( Kaikki_matsit[Vierasmaalit], Kaikki_matsit[Vieras], C9, Kaikki_matsit[Kausi],$D$3) -> 71 | I9: =SUMIFS( Kaikki_matsit[Kotimaalit], Kaikki_matsit[Vieras], C9, Kaikki_matsit[Kausi],$D$3) + SUMIFS( Kaikki_matsit[Vierasmaalit], Kaikki_matsit[Koti], C9, Kaikki_matsit[Kausi],$D$3) -> 27 | J9: =H9-I9 -> 44 | K9: =$K$1*E9 + $K$2*F9 -> 82 | M9: Lue lisää matriisikaavoista:
C10: Crystal Palace | D10: =COUNTIFS(Kaikki_matsit[Koti],C10, Kaikki_matsit[Kausi],$D$3) + COUNTIFS(Kaikki_matsit[Vieras],C10, Kaikki_matsit[Kausi],$D$3) + N("kommentti: kotimatsit + vierasmatsit") -> 38 | E10: {=SUM( IF( (Kaikki_matsit[Kotimaalit]>Kaikki_matsit[Vierasmaalit]) * (Kaikki_matsit[Koti]=C10) * (Kaikki_matsit[Kausi]=$D$3), 1, 0)) + SUM( IF( (Kaikki_matsit[Vierasmaalit]>Kaikki_matsit[Kotimaalit]) * (Kaikki_matsit[Vieras]=C10) * (Kaikki_matsit[Kausi]=$D$3), 1, 0))} -> 13 | F10: {=SUM( IF( (Kaikki_matsit[Kotimaalit]=Kaikki_matsit[Vierasmaalit]) * (Kaikki_matsit[Koti]=C10) * (Kaikki_matsit[Kausi]=$D$3), 1, 0)) + SUM( IF( (Kaikki_matsit[Vierasmaalit]=Kaikki_matsit[Kotimaalit]) * (Kaikki_matsit[Vieras]=C10) * (Kaikki_matsit[Kausi]=$D$3), 1, 0))} -> 6 | G10: {=SUM( IF( (Kaikki_matsit[Kotimaalit]<Kaikki_matsit[Vierasmaalit]) * (Kaikki_matsit[Koti]=C10) * (Kaikki_matsit[Kausi]=$D$3), 1, 0)) + SUM( IF( (Kaikki_matsit[Vierasmaalit]<Kaikki_matsit[Kotimaalit]) * (Kaikki_matsit[Vieras]=C10) * (Kaikki_matsit[Kausi]=$D$3), 1, 0))} -> 19 | H10: =SUMIFS( Kaikki_matsit[Kotimaalit], Kaikki_matsit[Koti], C10, Kaikki_matsit[Kausi],$D$3) + SUMIFS( Kaikki_matsit[Vierasmaalit], Kaikki_matsit[Vieras], C10, Kaikki_matsit[Kausi],$D$3) -> 33 | I10: =SUMIFS( Kaikki_matsit[Kotimaalit], Kaikki_matsit[Vieras], C10, Kaikki_matsit[Kausi],$D$3) + SUMIFS( Kaikki_matsit[Vierasmaalit], Kaikki_matsit[Koti], C10, Kaikki_matsit[Kausi],$D$3) -> 48 | J10: =H10-I10 -> -15 | K10: =$K$1*E10 + $K$2*F10 -> 45 | M10: https://www.ablebits.com/office-addins-blog/2015/03/04/excel-array-formula-examples/
C11: Everton | D11: =COUNTIFS(Kaikki_matsit[Koti],C11, Kaikki_matsit[Kausi],$D$3) + COUNTIFS(Kaikki_matsit[Vieras],C11, Kaikki_matsit[Kausi],$D$3) + N("kommentti: kotimatsit + vierasmatsit") -> 38 | E11: {=SUM( IF( (Kaikki_matsit[Kotimaalit]>Kaikki_matsit[Vierasmaalit]) * (Kaikki_matsit[Koti]=C11) * (Kaikki_matsit[Kausi]=$D$3), 1, 0)) + SUM( IF( (Kaikki_matsit[Vierasmaalit]>Kaikki_matsit[Kotimaalit]) * (Kaikki_matsit[Vieras]=C11) * (Kaikki_matsit[Kausi]=$D$3), 1, 0))} -> 21 | F11: {=SUM( IF( (Kaikki_matsit[Kotimaalit]=Kaikki_matsit[Vierasmaalit]) * (Kaikki_matsit[Koti]=C11) * (Kaikki_matsit[Kausi]=$D$3), 1, 0)) + SUM( IF( (Kaikki_matsit[Vierasmaalit]=Kaikki_matsit[Kotimaalit]) * (Kaikki_matsit[Vieras]=C11) * (Kaikki_matsit[Kausi]=$D$3), 1, 0))} -> 9 | G11: {=SUM( IF( (Kaikki_matsit[Kotimaalit]<Kaikki_matsit[Vierasmaalit]) * (Kaikki_matsit[Koti]=C11) * (Kaikki_matsit[Kausi]=$D$3), 1, 0)) + SUM( IF( (Kaikki_matsit[Vierasmaalit]<Kaikki_matsit[Kotimaalit]) * (Kaikki_matsit[Vieras]=C11) * (Kaikki_matsit[Kausi]=$D$3), 1, 0))} -> 8 | H11: =SUMIFS( Kaikki_matsit[Kotimaalit], Kaikki_matsit[Koti], C11, Kaikki_matsit[Kausi],$D$3) + SUMIFS( Kaikki_matsit[Vierasmaalit], Kaikki_matsit[Vieras], C11, Kaikki_matsit[Kausi],$D$3) -> 61 | I11: =SUMIFS( Kaikki_matsit[Kotimaalit], Kaikki_matsit[Vieras], C11, Kaikki_matsit[Kausi],$D$3) + SUMIFS( Kaikki_matsit[Vierasmaalit], Kaikki_matsit[Koti], C11, Kaikki_matsit[Kausi],$D$3) -> 39 | J11: =H11-I11 -> 22 | K11: =$K$1*E11 + $K$2*F11 -> 72
C12: Fulham | D12: =COUNTIFS(Kaikki_matsit[Koti],C12, Kaikki_matsit[Kausi],$D$3) + COUNTIFS(Kaikki_matsit[Vieras],C12, Kaikki_matsit[Kausi],$D$3) + N("kommentti: kotimatsit + vierasmatsit") -> 38 | E12: {=SUM( IF( (Kaikki_matsit[Kotimaalit]>Kaikki_matsit[Vierasmaalit]) * (Kaikki_matsit[Koti]=C12) * (Kaikki_matsit[Kausi]=$D$3), 1, 0)) + SUM( IF( (Kaikki_matsit[Vierasmaalit]>Kaikki_matsit[Kotimaalit]) * (Kaikki_matsit[Vieras]=C12) * (Kaikki_matsit[Kausi]=$D$3), 1, 0))} -> 9 | F12: {=SUM( IF( (Kaikki_matsit[Kotimaalit]=Kaikki_matsit[Vierasmaalit]) * (Kaikki_matsit[Koti]=C12) * (Kaikki_matsit[Kausi]=$D$3), 1, 0)) + SUM( IF( (Kaikki_matsit[Vierasmaalit]=Kaikki_matsit[Kotimaalit]) * (Kaikki_matsit[Vieras]=C12) * (Kaikki_matsit[Kausi]=$D$3), 1, 0))} -> 5 | G12: {=SUM( IF( (Kaikki_matsit[Kotimaalit]<Kaikki_matsit[Vierasmaalit]) * (Kaikki_matsit[Koti]=C12) * (Kaikki_matsit[Kausi]=$D$3), 1, 0)) + SUM( IF( (Kaikki_matsit[Vierasmaalit]<Kaikki_matsit[Kotimaalit]) * (Kaikki_matsit[Vieras]=C12) * (Kaikki_matsit[Kausi]=$D$3), 1, 0))} -> 24 | H12: =SUMIFS( Kaikki_matsit[Kotimaalit], Kaikki_matsit[Koti], C12, Kaikki_matsit[Kausi],$D$3) + SUMIFS( Kaikki_matsit[Vierasmaalit], Kaikki_matsit[Vieras], C12, Kaikki_matsit[Kausi],$D$3) -> 40 | I12: =SUMIFS( Kaikki_matsit[Kotimaalit], Kaikki_matsit[Vieras], C12, Kaikki_matsit[Kausi],$D$3) + SUMIFS( Kaikki_matsit[Vierasmaalit], Kaikki_matsit[Koti], C12, Kaikki_matsit[Kausi],$D$3) -> 85 | J12: =H12-I12 -> -45 | K12: =$K$1*E12 + $K$2*F12 -> 32 | M12: Moni kaavoista on jaettu pituuden vuoksi useammalle riville, joten kasvata Excelin kaavarivin korkeutta, jotta näet kaavat kokonaisuudessaan
C13: Hull City | D13: =COUNTIFS(Kaikki_matsit[Koti],C13, Kaikki_matsit[Kausi],$D$3) + COUNTIFS(Kaikki_matsit[Vieras],C13, Kaikki_matsit[Kausi],$D$3) + N("kommentti: kotimatsit + vierasmatsit") -> 38 | E13: {=SUM( IF( (Kaikki_matsit[Kotimaalit]>Kaikki_matsit[Vierasmaalit]) * (Kaikki_matsit[Koti]=C13) * (Kaikki_matsit[Kausi]=$D$3), 1, 0)) + SUM( IF( (Kaikki_matsit[Vierasmaalit]>Kaikki_matsit[Kotimaalit]) * (Kaikki_matsit[Vieras]=C13) * (Kaikki_matsit[Kausi]=$D$3), 1, 0))} -> 10 | F13: {=SUM( IF( (Kaikki_matsit[Kotimaalit]=Kaikki_matsit[Vierasmaalit]) * (Kaikki_matsit[Koti]=C13) * (Kaikki_matsit[Kausi]=$D$3), 1, 0)) + SUM( IF( (Kaikki_matsit[Vierasmaalit]=Kaikki_matsit[Kotimaalit]) * (Kaikki_matsit[Vieras]=C13) * (Kaikki_matsit[Kausi]=$D$3), 1, 0))} -> 7 | G13: {=SUM( IF( (Kaikki_matsit[Kotimaalit]<Kaikki_matsit[Vierasmaalit]) * (Kaikki_matsit[Koti]=C13) * (Kaikki_matsit[Kausi]=$D$3), 1, 0)) + SUM( IF( (Kaikki_matsit[Vierasmaalit]<Kaikki_matsit[Kotimaalit]) * (Kaikki_matsit[Vieras]=C13) * (Kaikki_matsit[Kausi]=$D$3), 1, 0))} -> 21 | H13: =SUMIFS( Kaikki_matsit[Kotimaalit], Kaikki_matsit[Koti], C13, Kaikki_matsit[Kausi],$D$3) + SUMIFS( Kaikki_matsit[Vierasmaalit], Kaikki_matsit[Vieras], C13, Kaikki_matsit[Kausi],$D$3) -> 38 | I13: =SUMIFS( Kaikki_matsit[Kotimaalit], Kaikki_matsit[Vieras], C13, Kaikki_matsit[Kausi],$D$3) + SUMIFS( Kaikki_matsit[Vierasmaalit], Kaikki_matsit[Koti], C13, Kaikki_matsit[Kausi],$D$3) -> 53 | J13: =H13-I13 -> -15 | K13: =$K$1*E13 + $K$2*F13 -> 37 | M13: Kaavojen rivitys on on tehty Alt + Enter -näppäinyhdistelmällä.
C14: Liverpool | D14: =COUNTIFS(Kaikki_matsit[Koti],C14, Kaikki_matsit[Kausi],$D$3) + COUNTIFS(Kaikki_matsit[Vieras],C14, Kaikki_matsit[Kausi],$D$3) + N("kommentti: kotimatsit + vierasmatsit") -> 38 | E14: {=SUM( IF( (Kaikki_matsit[Kotimaalit]>Kaikki_matsit[Vierasmaalit]) * (Kaikki_matsit[Koti]=C14) * (Kaikki_matsit[Kausi]=$D$3), 1, 0)) + SUM( IF( (Kaikki_matsit[Vierasmaalit]>Kaikki_matsit[Kotimaalit]) * (Kaikki_matsit[Vieras]=C14) * (Kaikki_matsit[Kausi]=$D$3), 1, 0))} -> 26 | F14: {=SUM( IF( (Kaikki_matsit[Kotimaalit]=Kaikki_matsit[Vierasmaalit]) * (Kaikki_matsit[Koti]=C14) * (Kaikki_matsit[Kausi]=$D$3), 1, 0)) + SUM( IF( (Kaikki_matsit[Vierasmaalit]=Kaikki_matsit[Kotimaalit]) * (Kaikki_matsit[Vieras]=C14) * (Kaikki_matsit[Kausi]=$D$3), 1, 0))} -> 6 | G14: {=SUM( IF( (Kaikki_matsit[Kotimaalit]<Kaikki_matsit[Vierasmaalit]) * (Kaikki_matsit[Koti]=C14) * (Kaikki_matsit[Kausi]=$D$3), 1, 0)) + SUM( IF( (Kaikki_matsit[Vierasmaalit]<Kaikki_matsit[Kotimaalit]) * (Kaikki_matsit[Vieras]=C14) * (Kaikki_matsit[Kausi]=$D$3), 1, 0))} -> 6 | H14: =SUMIFS( Kaikki_matsit[Kotimaalit], Kaikki_matsit[Koti], C14, Kaikki_matsit[Kausi],$D$3) + SUMIFS( Kaikki_matsit[Vierasmaalit], Kaikki_matsit[Vieras], C14, Kaikki_matsit[Kausi],$D$3) -> 101 | I14: =SUMIFS( Kaikki_matsit[Kotimaalit], Kaikki_matsit[Vieras], C14, Kaikki_matsit[Kausi],$D$3) + SUMIFS( Kaikki_matsit[Vierasmaalit], Kaikki_matsit[Koti], C14, Kaikki_matsit[Kausi],$D$3) -> 50 | J14: =H14-I14 -> 51 | K14: =$K$1*E14 + $K$2*F14 -> 84 | M14: Kopioi kaavoja tarvittaessa alemmas, jos datassasi on enemmän joukkueita.
C15: Manchester City | D15: =COUNTIFS(Kaikki_matsit[Koti],C15, Kaikki_matsit[Kausi],$D$3) + COUNTIFS(Kaikki_matsit[Vieras],C15, Kaikki_matsit[Kausi],$D$3) + N("kommentti: kotimatsit + vierasmatsit") -> 38 | E15: {=SUM( IF( (Kaikki_matsit[Kotimaalit]>Kaikki_matsit[Vierasmaalit]) * (Kaikki_matsit[Koti]=C15) * (Kaikki_matsit[Kausi]=$D$3), 1, 0)) + SUM( IF( (Kaikki_matsit[Vierasmaalit]>Kaikki_matsit[Kotimaalit]) * (Kaikki_matsit[Vieras]=C15) * (Kaikki_matsit[Kausi]=$D$3), 1, 0))} -> 27 | F15: {=SUM( IF( (Kaikki_matsit[Kotimaalit]=Kaikki_matsit[Vierasmaalit]) * (Kaikki_matsit[Koti]=C15) * (Kaikki_matsit[Kausi]=$D$3), 1, 0)) + SUM( IF( (Kaikki_matsit[Vierasmaalit]=Kaikki_matsit[Kotimaalit]) * (Kaikki_matsit[Vieras]=C15) * (Kaikki_matsit[Kausi]=$D$3), 1, 0))} -> 5 | G15: {=SUM( IF( (Kaikki_matsit[Kotimaalit]<Kaikki_matsit[Vierasmaalit]) * (Kaikki_matsit[Koti]=C15) * (Kaikki_matsit[Kausi]=$D$3), 1, 0)) + SUM( IF( (Kaikki_matsit[Vierasmaalit]<Kaikki_matsit[Kotimaalit]) * (Kaikki_matsit[Vieras]=C15) * (Kaikki_matsit[Kausi]=$D$3), 1, 0))} -> 6 | H15: =SUMIFS( Kaikki_matsit[Kotimaalit], Kaikki_matsit[Koti], C15, Kaikki_matsit[Kausi],$D$3) + SUMIFS( Kaikki_matsit[Vierasmaalit], Kaikki_matsit[Vieras], C15, Kaikki_matsit[Kausi],$D$3) -> 102 | I15: =SUMIFS( Kaikki_matsit[Kotimaalit], Kaikki_matsit[Vieras], C15, Kaikki_matsit[Kausi],$D$3) + SUMIFS( Kaikki_matsit[Vierasmaalit], Kaikki_matsit[Koti], C15, Kaikki_matsit[Kausi],$D$3) -> 37 | J15: =H15-I15 -> 65 | K15: =$K$1*E15 + $K$2*F15 -> 86
C16: Manchester United | D16: =COUNTIFS(Kaikki_matsit[Koti],C16, Kaikki_matsit[Kausi],$D$3) + COUNTIFS(Kaikki_matsit[Vieras],C16, Kaikki_matsit[Kausi],$D$3) + N("kommentti: kotimatsit + vierasmatsit") -> 38 | E16: {=SUM( IF( (Kaikki_matsit[Kotimaalit]>Kaikki_matsit[Vierasmaalit]) * (Kaikki_matsit[Koti]=C16) * (Kaikki_matsit[Kausi]=$D$3), 1, 0)) + SUM( IF( (Kaikki_matsit[Vierasmaalit]>Kaikki_matsit[Kotimaalit]) * (Kaikki_matsit[Vieras]=C16) * (Kaikki_matsit[Kausi]=$D$3), 1, 0))} -> 19 | F16: {=SUM( IF( (Kaikki_matsit[Kotimaalit]=Kaikki_matsit[Vierasmaalit]) * (Kaikki_matsit[Koti]=C16) * (Kaikki_matsit[Kausi]=$D$3), 1, 0)) + SUM( IF( (Kaikki_matsit[Vierasmaalit]=Kaikki_matsit[Kotimaalit]) * (Kaikki_matsit[Vieras]=C16) * (Kaikki_matsit[Kausi]=$D$3), 1, 0))} -> 7 | G16: {=SUM( IF( (Kaikki_matsit[Kotimaalit]<Kaikki_matsit[Vierasmaalit]) * (Kaikki_matsit[Koti]=C16) * (Kaikki_matsit[Kausi]=$D$3), 1, 0)) + SUM( IF( (Kaikki_matsit[Vierasmaalit]<Kaikki_matsit[Kotimaalit]) * (Kaikki_matsit[Vieras]=C16) * (Kaikki_matsit[Kausi]=$D$3), 1, 0))} -> 12 | H16: =SUMIFS( Kaikki_matsit[Kotimaalit], Kaikki_matsit[Koti], C16, Kaikki_matsit[Kausi],$D$3) + SUMIFS( Kaikki_matsit[Vierasmaalit], Kaikki_matsit[Vieras], C16, Kaikki_matsit[Kausi],$D$3) -> 64 | I16: =SUMIFS( Kaikki_matsit[Kotimaalit], Kaikki_matsit[Vieras], C16, Kaikki_matsit[Kausi],$D$3) + SUMIFS( Kaikki_matsit[Vierasmaalit], Kaikki_matsit[Koti], C16, Kaikki_matsit[Kausi],$D$3) -> 43 | J16: =H16-I16 -> 21 | K16: =$K$1*E16 + $K$2*F16 -> 64
C17: Newcastle United | D17: =COUNTIFS(Kaikki_matsit[Koti],C17, Kaikki_matsit[Kausi],$D$3) + COUNTIFS(Kaikki_matsit[Vieras],C17, Kaikki_matsit[Kausi],$D$3) + N("kommentti: kotimatsit + vierasmatsit") -> 38 | E17: {=SUM( IF( (Kaikki_matsit[Kotimaalit]>Kaikki_matsit[Vierasmaalit]) * (Kaikki_matsit[Koti]=C17) * (Kaikki_matsit[Kausi]=$D$3), 1, 0)) + SUM( IF( (Kaikki_matsit[Vierasmaalit]>Kaikki_matsit[Kotimaalit]) * (Kaikki_matsit[Vieras]=C17) * (Kaikki_matsit[Kausi]=$D$3), 1, 0))} -> 15 | F17: {=SUM( IF( (Kaikki_matsit[Kotimaalit]=Kaikki_matsit[Vierasmaalit]) * (Kaikki_matsit[Koti]=C17) * (Kaikki_matsit[Kausi]=$D$3), 1, 0)) + SUM( IF( (Kaikki_matsit[Vierasmaalit]=Kaikki_matsit[Kotimaalit]) * (Kaikki_matsit[Vieras]=C17) * (Kaikki_matsit[Kausi]=$D$3), 1, 0))} -> 4 | G17: {=SUM( IF( (Kaikki_matsit[Kotimaalit]<Kaikki_matsit[Vierasmaalit]) * (Kaikki_matsit[Koti]=C17) * (Kaikki_matsit[Kausi]=$D$3), 1, 0)) + SUM( IF( (Kaikki_matsit[Vierasmaalit]<Kaikki_matsit[Kotimaalit]) * (Kaikki_matsit[Vieras]=C17) * (Kaikki_matsit[Kausi]=$D$3), 1, 0))} -> 19 | H17: =SUMIFS( Kaikki_matsit[Kotimaalit], Kaikki_matsit[Koti], C17, Kaikki_matsit[Kausi],$D$3) + SUMIFS( Kaikki_matsit[Vierasmaalit], Kaikki_matsit[Vieras], C17, Kaikki_matsit[Kausi],$D$3) -> 43 | I17: =SUMIFS( Kaikki_matsit[Kotimaalit], Kaikki_matsit[Vieras], C17, Kaikki_matsit[Kausi],$D$3) + SUMIFS( Kaikki_matsit[Vierasmaalit], Kaikki_matsit[Koti], C17, Kaikki_matsit[Kausi],$D$3) -> 59 | J17: =H17-I17 -> -16 | K17: =$K$1*E17 + $K$2*F17 -> 49
C18: Norwich City | D18: =COUNTIFS(Kaikki_matsit[Koti],C18, Kaikki_matsit[Kausi],$D$3) + COUNTIFS(Kaikki_matsit[Vieras],C18, Kaikki_matsit[Kausi],$D$3) + N("kommentti: kotimatsit + vierasmatsit") -> 38 | E18: {=SUM( IF( (Kaikki_matsit[Kotimaalit]>Kaikki_matsit[Vierasmaalit]) * (Kaikki_matsit[Koti]=C18) * (Kaikki_matsit[Kausi]=$D$3), 1, 0)) + SUM( IF( (Kaikki_matsit[Vierasmaalit]>Kaikki_matsit[Kotimaalit]) * (Kaikki_matsit[Vieras]=C18) * (Kaikki_matsit[Kausi]=$D$3), 1, 0))} -> 8 | F18: {=SUM( IF( (Kaikki_matsit[Kotimaalit]=Kaikki_matsit[Vierasmaalit]) * (Kaikki_matsit[Koti]=C18) * (Kaikki_matsit[Kausi]=$D$3), 1, 0)) + SUM( IF( (Kaikki_matsit[Vierasmaalit]=Kaikki_matsit[Kotimaalit]) * (Kaikki_matsit[Vieras]=C18) * (Kaikki_matsit[Kausi]=$D$3), 1, 0))} -> 9 | G18: {=SUM( IF( (Kaikki_matsit[Kotimaalit]<Kaikki_matsit[Vierasmaalit]) * (Kaikki_matsit[Koti]=C18) * (Kaikki_matsit[Kausi]=$D$3), 1, 0)) + SUM( IF( (Kaikki_matsit[Vierasmaalit]<Kaikki_matsit[Kotimaalit]) * (Kaikki_matsit[Vieras]=C18) * (Kaikki_matsit[Kausi]=$D$3), 1, 0))} -> 21 | H18: =SUMIFS( Kaikki_matsit[Kotimaalit], Kaikki_matsit[Koti], C18, Kaikki_matsit[Kausi],$D$3) + SUMIFS( Kaikki_matsit[Vierasmaalit], Kaikki_matsit[Vieras], C18, Kaikki_matsit[Kausi],$D$3) -> 28 | I18: =SUMIFS( Kaikki_matsit[Kotimaalit], Kaikki_matsit[Vieras], C18, Kaikki_matsit[Kausi],$D$3) + SUMIFS( Kaikki_matsit[Vierasmaalit], Kaikki_matsit[Koti], C18, Kaikki_matsit[Kausi],$D$3) -> 62 | J18: =H18-I18 -> -34 | K18: =$K$1*E18 + $K$2*F18 -> 33
C19: Southampton | D19: =COUNTIFS(Kaikki_matsit[Koti],C19, Kaikki_matsit[Kausi],$D$3) + COUNTIFS(Kaikki_matsit[Vieras],C19, Kaikki_matsit[Kausi],$D$3) + N("kommentti: kotimatsit + vierasmatsit") -> 38 | E19: {=SUM( IF( (Kaikki_matsit[Kotimaalit]>Kaikki_matsit[Vierasmaalit]) * (Kaikki_matsit[Koti]=C19) * (Kaikki_matsit[Kausi]=$D$3), 1, 0)) + SUM( IF( (Kaikki_matsit[Vierasmaalit]>Kaikki_matsit[Kotimaalit]) * (Kaikki_matsit[Vieras]=C19) * (Kaikki_matsit[Kausi]=$D$3), 1, 0))} -> 15 | F19: {=SUM( IF( (Kaikki_matsit[Kotimaalit]=Kaikki_matsit[Vierasmaalit]) * (Kaikki_matsit[Koti]=C19) * (Kaikki_matsit[Kausi]=$D$3), 1, 0)) + SUM( IF( (Kaikki_matsit[Vierasmaalit]=Kaikki_matsit[Kotimaalit]) * (Kaikki_matsit[Vieras]=C19) * (Kaikki_matsit[Kausi]=$D$3), 1, 0))} -> 11 | G19: {=SUM( IF( (Kaikki_matsit[Kotimaalit]<Kaikki_matsit[Vierasmaalit]) * (Kaikki_matsit[Koti]=C19) * (Kaikki_matsit[Kausi]=$D$3), 1, 0)) + SUM( IF( (Kaikki_matsit[Vierasmaalit]<Kaikki_matsit[Kotimaalit]) * (Kaikki_matsit[Vieras]=C19) * (Kaikki_matsit[Kausi]=$D$3), 1, 0))} -> 12 | H19: =SUMIFS( Kaikki_matsit[Kotimaalit], Kaikki_matsit[Koti], C19, Kaikki_matsit[Kausi],$D$3) + SUMIFS( Kaikki_matsit[Vierasmaalit], Kaikki_matsit[Vieras], C19, Kaikki_matsit[Kausi],$D$3) -> 54 | I19: =SUMIFS( Kaikki_matsit[Kotimaalit], Kaikki_matsit[Vieras], C19, Kaikki_matsit[Kausi],$D$3) + SUMIFS( Kaikki_matsit[Vierasmaalit], Kaikki_matsit[Koti], C19, Kaikki_matsit[Kausi],$D$3) -> 46 | J19: =H19-I19 -> 8 | K19: =$K$1*E19 + $K$2*F19 -> 56
C20: Stoke City | D20: =COUNTIFS(Kaikki_matsit[Koti],C20, Kaikki_matsit[Kausi],$D$3) + COUNTIFS(Kaikki_matsit[Vieras],C20, Kaikki_matsit[Kausi],$D$3) + N("kommentti: kotimatsit + vierasmatsit") -> 38 | E20: {=SUM( IF( (Kaikki_matsit[Kotimaalit]>Kaikki_matsit[Vierasmaalit]) * (Kaikki_matsit[Koti]=C20) * (Kaikki_matsit[Kausi]=$D$3), 1, 0)) + SUM( IF( (Kaikki_matsit[Vierasmaalit]>Kaikki_matsit[Kotimaalit]) * (Kaikki_matsit[Vieras]=C20) * (Kaikki_matsit[Kausi]=$D$3), 1, 0))} -> 13 | F20: {=SUM( IF( (Kaikki_matsit[Kotimaalit]=Kaikki_matsit[Vierasmaalit]) * (Kaikki_matsit[Koti]=C20) * (Kaikki_matsit[Kausi]=$D$3), 1, 0)) + SUM( IF( (Kaikki_matsit[Vierasmaalit]=Kaikki_matsit[Kotimaalit]) * (Kaikki_matsit[Vieras]=C20) * (Kaikki_matsit[Kausi]=$D$3), 1, 0))} -> 11 | G20: {=SUM( IF( (Kaikki_matsit[Kotimaalit]<Kaikki_matsit[Vierasmaalit]) * (Kaikki_matsit[Koti]=C20) * (Kaikki_matsit[Kausi]=$D$3), 1, 0)) + SUM( IF( (Kaikki_matsit[Vierasmaalit]<Kaikki_matsit[Kotimaalit]) * (Kaikki_matsit[Vieras]=C20) * (Kaikki_matsit[Kausi]=$D$3), 1, 0))} -> 14 | H20: =SUMIFS( Kaikki_matsit[Kotimaalit], Kaikki_matsit[Koti], C20, Kaikki_matsit[Kausi],$D$3) + SUMIFS( Kaikki_matsit[Vierasmaalit], Kaikki_matsit[Vieras], C20, Kaikki_matsit[Kausi],$D$3) -> 45 | I20: =SUMIFS( Kaikki_matsit[Kotimaalit], Kaikki_matsit[Vieras], C20, Kaikki_matsit[Kausi],$D$3) + SUMIFS( Kaikki_matsit[Vierasmaalit], Kaikki_matsit[Koti], C20, Kaikki_matsit[Kausi],$D$3) -> 52 | J20: =H20-I20 -> -7 | K20: =$K$1*E20 + $K$2*F20 -> 50
C21: Sunderland | D21: =COUNTIFS(Kaikki_matsit[Koti],C21, Kaikki_matsit[Kausi],$D$3) + COUNTIFS(Kaikki_matsit[Vieras],C21, Kaikki_matsit[Kausi],$D$3) + N("kommentti: kotimatsit + vierasmatsit") -> 38 | E21: {=SUM( IF( (Kaikki_matsit[Kotimaalit]>Kaikki_matsit[Vierasmaalit]) * (Kaikki_matsit[Koti]=C21) * (Kaikki_matsit[Kausi]=$D$3), 1, 0)) + SUM( IF( (Kaikki_matsit[Vierasmaalit]>Kaikki_matsit[Kotimaalit]) * (Kaikki_matsit[Vieras]=C21) * (Kaikki_matsit[Kausi]=$D$3), 1, 0))} -> 10 | F21: {=SUM( IF( (Kaikki_matsit[Kotimaalit]=Kaikki_matsit[Vierasmaalit]) * (Kaikki_matsit[Koti]=C21) * (Kaikki_matsit[Kausi]=$D$3), 1, 0)) + SUM( IF( (Kaikki_matsit[Vierasmaalit]=Kaikki_matsit[Kotimaalit]) * (Kaikki_matsit[Vieras]=C21) * (Kaikki_matsit[Kausi]=$D$3), 1, 0))} -> 8 | G21: {=SUM( IF( (Kaikki_matsit[Kotimaalit]<Kaikki_matsit[Vierasmaalit]) * (Kaikki_matsit[Koti]=C21) * (Kaikki_matsit[Kausi]=$D$3), 1, 0)) + SUM( IF( (Kaikki_matsit[Vierasmaalit]<Kaikki_matsit[Kotimaalit]) * (Kaikki_matsit[Vieras]=C21) * (Kaikki_matsit[Kausi]=$D$3), 1, 0))} -> 20 | H21: =SUMIFS( Kaikki_matsit[Kotimaalit], Kaikki_matsit[Koti], C21, Kaikki_matsit[Kausi],$D$3) + SUMIFS( Kaikki_matsit[Vierasmaalit], Kaikki_matsit[Vieras], C21, Kaikki_matsit[Kausi],$D$3) -> 41 | I21: =SUMIFS( Kaikki_matsit[Kotimaalit], Kaikki_matsit[Vieras], C21, Kaikki_matsit[Kausi],$D$3) + SUMIFS( Kaikki_matsit[Vierasmaalit], Kaikki_matsit[Koti], C21, Kaikki_matsit[Kausi],$D$3) -> 60 | J21: =H21-I21 -> -19 | K21: =$K$1*E21 + $K$2*F21 -> 38
C22: Swansea City | D22: =COUNTIFS(Kaikki_matsit[Koti],C22, Kaikki_matsit[Kausi],$D$3) + COUNTIFS(Kaikki_matsit[Vieras],C22, Kaikki_matsit[Kausi],$D$3) + N("kommentti: kotimatsit + vierasmatsit") -> 38 | E22: {=SUM( IF( (Kaikki_matsit[Kotimaalit]>Kaikki_matsit[Vierasmaalit]) * (Kaikki_matsit[Koti]=C22) * (Kaikki_matsit[Kausi]=$D$3), 1, 0)) + SUM( IF( (Kaikki_matsit[Vierasmaalit]>Kaikki_matsit[Kotimaalit]) * (Kaikki_matsit[Vieras]=C22) * (Kaikki_matsit[Kausi]=$D$3), 1, 0))} -> 11 | F22: {=SUM( IF( (Kaikki_matsit[Kotimaalit]=Kaikki_matsit[Vierasmaalit]) * (Kaikki_matsit[Koti]=C22) * (Kaikki_matsit[Kausi]=$D$3), 1, 0)) + SUM( IF( (Kaikki_matsit[Vierasmaalit]=Kaikki_matsit[Kotimaalit]) * (Kaikki_matsit[Vieras]=C22) * (Kaikki_matsit[Kausi]=$D$3), 1, 0))} -> 9 | G22: {=SUM( IF( (Kaikki_matsit[Kotimaalit]<Kaikki_matsit[Vierasmaalit]) * (Kaikki_matsit[Koti]=C22) * (Kaikki_matsit[Kausi]=$D$3), 1, 0)) + SUM( IF( (Kaikki_matsit[Vierasmaalit]<Kaikki_matsit[Kotimaalit]) * (Kaikki_matsit[Vieras]=C22) * (Kaikki_matsit[Kausi]=$D$3), 1, 0))} -> 18 | H22: =SUMIFS( Kaikki_matsit[Kotimaalit], Kaikki_matsit[Koti], C22, Kaikki_matsit[Kausi],$D$3) + SUMIFS( Kaikki_matsit[Vierasmaalit], Kaikki_matsit[Vieras], C22, Kaikki_matsit[Kausi],$D$3) -> 54 | I22: =SUMIFS( Kaikki_matsit[Kotimaalit], Kaikki_matsit[Vieras], C22, Kaikki_matsit[Kausi],$D$3) + SUMIFS( Kaikki_matsit[Vierasmaalit], Kaikki_matsit[Koti], C22, Kaikki_matsit[Kausi],$D$3) -> 54 | J22: =H22-I22 -> 0 | K22: =$K$1*E22 + $K$2*F22 -> 42
C23: Tottenham Hotspur | D23: =COUNTIFS(Kaikki_matsit[Koti],C23, Kaikki_matsit[Kausi],$D$3) + COUNTIFS(Kaikki_matsit[Vieras],C23, Kaikki_matsit[Kausi],$D$3) + N("kommentti: kotimatsit + vierasmatsit") -> 38 | E23: {=SUM( IF( (Kaikki_matsit[Kotimaalit]>Kaikki_matsit[Vierasmaalit]) * (Kaikki_matsit[Koti]=C23) * (Kaikki_matsit[Kausi]=$D$3), 1, 0)) + SUM( IF( (Kaikki_matsit[Vierasmaalit]>Kaikki_matsit[Kotimaalit]) * (Kaikki_matsit[Vieras]=C23) * (Kaikki_matsit[Kausi]=$D$3), 1, 0))} -> 21 | F23: {=SUM( IF( (Kaikki_matsit[Kotimaalit]=Kaikki_matsit[Vierasmaalit]) * (Kaikki_matsit[Koti]=C23) * (Kaikki_matsit[Kausi]=$D$3), 1, 0)) + SUM( IF( (Kaikki_matsit[Vierasmaalit]=Kaikki_matsit[Kotimaalit]) * (Kaikki_matsit[Vieras]=C23) * (Kaikki_matsit[Kausi]=$D$3), 1, 0))} -> 6 | G23: {=SUM( IF( (Kaikki_matsit[Kotimaalit]<Kaikki_matsit[Vierasmaalit]) * (Kaikki_matsit[Koti]=C23) * (Kaikki_matsit[Kausi]=$D$3), 1, 0)) + SUM( IF( (Kaikki_matsit[Vierasmaalit]<Kaikki_matsit[Kotimaalit]) * (Kaikki_matsit[Vieras]=C23) * (Kaikki_matsit[Kausi]=$D$3), 1, 0))} -> 11 | H23: =SUMIFS( Kaikki_matsit[Kotimaalit], Kaikki_matsit[Koti], C23, Kaikki_matsit[Kausi],$D$3) + SUMIFS( Kaikki_matsit[Vierasmaalit], Kaikki_matsit[Vieras], C23, Kaikki_matsit[Kausi],$D$3) -> 55 | I23: =SUMIFS( Kaikki_matsit[Kotimaalit], Kaikki_matsit[Vieras], C23, Kaikki_matsit[Kausi],$D$3) + SUMIFS( Kaikki_matsit[Vierasmaalit], Kaikki_matsit[Koti], C23, Kaikki_matsit[Kausi],$D$3) -> 51 | J23: =H23-I23 -> 4 | K23: =$K$1*E23 + $K$2*F23 -> 69
C24: West Bromwich Albion | D24: =COUNTIFS(Kaikki_matsit[Koti],C24, Kaikki_matsit[Kausi],$D$3) + COUNTIFS(Kaikki_matsit[Vieras],C24, Kaikki_matsit[Kausi],$D$3) + N("kommentti: kotimatsit + vierasmatsit") -> 38 | E24: {=SUM( IF( (Kaikki_matsit[Kotimaalit]>Kaikki_matsit[Vierasmaalit]) * (Kaikki_matsit[Koti]=C24) * (Kaikki_matsit[Kausi]=$D$3), 1, 0)) + SUM( IF( (Kaikki_matsit[Vierasmaalit]>Kaikki_matsit[Kotimaalit]) * (Kaikki_matsit[Vieras]=C24) * (Kaikki_matsit[Kausi]=$D$3), 1, 0))} -> 7 | F24: {=SUM( IF( (Kaikki_matsit[Kotimaalit]=Kaikki_matsit[Vierasmaalit]) * (Kaikki_matsit[Koti]=C24) * (Kaikki_matsit[Kausi]=$D$3), 1, 0)) + SUM( IF( (Kaikki_matsit[Vierasmaalit]=Kaikki_matsit[Kotimaalit]) * (Kaikki_matsit[Vieras]=C24) * (Kaikki_matsit[Kausi]=$D$3), 1, 0))} -> 15 | G24: {=SUM( IF( (Kaikki_matsit[Kotimaalit]<Kaikki_matsit[Vierasmaalit]) * (Kaikki_matsit[Koti]=C24) * (Kaikki_matsit[Kausi]=$D$3), 1, 0)) + SUM( IF( (Kaikki_matsit[Vierasmaalit]<Kaikki_matsit[Kotimaalit]) * (Kaikki_matsit[Vieras]=C24) * (Kaikki_matsit[Kausi]=$D$3), 1, 0))} -> 16 | H24: =SUMIFS( Kaikki_matsit[Kotimaalit], Kaikki_matsit[Koti], C24, Kaikki_matsit[Kausi],$D$3) + SUMIFS( Kaikki_matsit[Vierasmaalit], Kaikki_matsit[Vieras], C24, Kaikki_matsit[Kausi],$D$3) -> 43 | I24: =SUMIFS( Kaikki_matsit[Kotimaalit], Kaikki_matsit[Vieras], C24, Kaikki_matsit[Kausi],$D$3) + SUMIFS( Kaikki_matsit[Vierasmaalit], Kaikki_matsit[Koti], C24, Kaikki_matsit[Kausi],$D$3) -> 59 | J24: =H24-I24 -> -16 | K24: =$K$1*E24 + $K$2*F24 -> 36
C25: West Ham United | D25: =COUNTIFS(Kaikki_matsit[Koti],C25, Kaikki_matsit[Kausi],$D$3) + COUNTIFS(Kaikki_matsit[Vieras],C25, Kaikki_matsit[Kausi],$D$3) + N("kommentti: kotimatsit + vierasmatsit") -> 38 | E25: {=SUM( IF( (Kaikki_matsit[Kotimaalit]>Kaikki_matsit[Vierasmaalit]) * (Kaikki_matsit[Koti]=C25) * (Kaikki_matsit[Kausi]=$D$3), 1, 0)) + SUM( IF( (Kaikki_matsit[Vierasmaalit]>Kaikki_matsit[Kotimaalit]) * (Kaikki_matsit[Vieras]=C25) * (Kaikki_matsit[Kausi]=$D$3), 1, 0))} -> 11 | F25: {=SUM( IF( (Kaikki_matsit[Kotimaalit]=Kaikki_matsit[Vierasmaalit]) * (Kaikki_matsit[Koti]=C25) * (Kaikki_matsit[Kausi]=$D$3), 1, 0)) + SUM( IF( (Kaikki_matsit[Vierasmaalit]=Kaikki_matsit[Kotimaalit]) * (Kaikki_matsit[Vieras]=C25) * (Kaikki_matsit[Kausi]=$D$3), 1, 0))} -> 7 | G25: {=SUM( IF( (Kaikki_matsit[Kotimaalit]<Kaikki_matsit[Vierasmaalit]) * (Kaikki_matsit[Koti]=C25) * (Kaikki_matsit[Kausi]=$D$3), 1, 0)) + SUM( IF( (Kaikki_matsit[Vierasmaalit]<Kaikki_matsit[Kotimaalit]) * (Kaikki_matsit[Vieras]=C25) * (Kaikki_matsit[Kausi]=$D$3), 1, 0))} -> 20 | H25: =SUMIFS( Kaikki_matsit[Kotimaalit], Kaikki_matsit[Koti], C25, Kaikki_matsit[Kausi],$D$3) + SUMIFS( Kaikki_matsit[Vierasmaalit], Kaikki_matsit[Vieras], C25, Kaikki_matsit[Kausi],$D$3) -> 40 | I25: =SUMIFS( Kaikki_matsit[Kotimaalit], Kaikki_matsit[Vieras], C25, Kaikki_matsit[Kausi],$D$3) + SUMIFS( Kaikki_matsit[Vierasmaalit], Kaikki_matsit[Koti], C25, Kaikki_matsit[Kausi],$D$3) -> 51 | J25: =H25-I25 -> -11 | K25: =$K$1*E25 + $K$2*F25 -> 40
D26: =COUNTIFS(Kaikki_matsit[Koti],C26, Kaikki_matsit[Kausi],$D$3) + COUNTIFS(Kaikki_matsit[Vieras],C26, Kaikki_matsit[Kausi],$D$3) + N("kommentti: kotimatsit + vierasmatsit") -> 0 | E26: {=SUM( IF( (Kaikki_matsit[Kotimaalit]>Kaikki_matsit[Vierasmaalit]) * (Kaikki_matsit[Koti]=C26) * (Kaikki_matsit[Kausi]=$D$3), 1, 0)) + SUM( IF( (Kaikki_matsit[Vierasmaalit]>Kaikki_matsit[Kotimaalit]) * (Kaikki_matsit[Vieras]=C26) * (Kaikki_matsit[Kausi]=$D$3), 1, 0))} -> 0 | F26: {=SUM( IF( (Kaikki_matsit[Kotimaalit]=Kaikki_matsit[Vierasmaalit]) * (Kaikki_matsit[Koti]=C26) * (Kaikki_matsit[Kausi]=$D$3), 1, 0)) + SUM( IF( (Kaikki_matsit[Vierasmaalit]=Kaikki_matsit[Kotimaalit]) * (Kaikki_matsit[Vieras]=C26) * (Kaikki_matsit[Kausi]=$D$3), 1, 0))} -> 0 | G26: {=SUM( IF( (Kaikki_matsit[Kotimaalit]<Kaikki_matsit[Vierasmaalit]) * (Kaikki_matsit[Koti]=C26) * (Kaikki_matsit[Kausi]=$D$3), 1, 0)) + SUM( IF( (Kaikki_matsit[Vierasmaalit]<Kaikki_matsit[Kotimaalit]) * (Kaikki_matsit[Vieras]=C26) * (Kaikki_matsit[Kausi]=$D$3), 1, 0))} -> 0 | H26: =SUMIFS( Kaikki_matsit[Kotimaalit], Kaikki_matsit[Koti], C26, Kaikki_matsit[Kausi],$D$3) + SUMIFS( Kaikki_matsit[Vierasmaalit], Kaikki_matsit[Vieras], C26, Kaikki_matsit[Kausi],$D$3) -> 0 | I26: =SUMIFS( Kaikki_matsit[Kotimaalit], Kaikki_matsit[Vieras], C26, Kaikki_matsit[Kausi],$D$3) + SUMIFS( Kaikki_matsit[Vierasmaalit], Kaikki_matsit[Koti], C26, Kaikki_matsit[Kausi],$D$3) -> 0 | J26: =H26-I26 -> 0 | K26: =$K$1*E26 + $K$2*F26 -> 0
D27: =COUNTIFS(Kaikki_matsit[Koti],C27, Kaikki_matsit[Kausi],$D$3) + COUNTIFS(Kaikki_matsit[Vieras],C27, Kaikki_matsit[Kausi],$D$3) + N("kommentti: kotimatsit + vierasmatsit") -> 0 | E27: {=SUM( IF( (Kaikki_matsit[Kotimaalit]>Kaikki_matsit[Vierasmaalit]) * (Kaikki_matsit[Koti]=C27) * (Kaikki_matsit[Kausi]=$D$3), 1, 0)) + SUM( IF( (Kaikki_matsit[Vierasmaalit]>Kaikki_matsit[Kotimaalit]) * (Kaikki_matsit[Vieras]=C27) * (Kaikki_matsit[Kausi]=$D$3), 1, 0))} -> 0 | F27: {=SUM( IF( (Kaikki_matsit[Kotimaalit]=Kaikki_matsit[Vierasmaalit]) * (Kaikki_matsit[Koti]=C27) * (Kaikki_matsit[Kausi]=$D$3), 1, 0)) + SUM( IF( (Kaikki_matsit[Vierasmaalit]=Kaikki_matsit[Kotimaalit]) * (Kaikki_matsit[Vieras]=C27) * (Kaikki_matsit[Kausi]=$D$3), 1, 0))} -> 0 | G27: {=SUM( IF( (Kaikki_matsit[Kotimaalit]<Kaikki_matsit[Vierasmaalit]) * (Kaikki_matsit[Koti]=C27) * (Kaikki_matsit[Kausi]=$D$3), 1, 0)) + SUM( IF( (Kaikki_matsit[Vierasmaalit]<Kaikki_matsit[Kotimaalit]) * (Kaikki_matsit[Vieras]=C27) * (Kaikki_matsit[Kausi]=$D$3), 1, 0))} -> 0 | H27: =SUMIFS( Kaikki_matsit[Kotimaalit], Kaikki_matsit[Koti], C27, Kaikki_matsit[Kausi],$D$3) + SUMIFS( Kaikki_matsit[Vierasmaalit], Kaikki_matsit[Vieras], C27, Kaikki_matsit[Kausi],$D$3) -> 0 | I27: =SUMIFS( Kaikki_matsit[Kotimaalit], Kaikki_matsit[Vieras], C27, Kaikki_matsit[Kausi],$D$3) + SUMIFS( Kaikki_matsit[Vierasmaalit], Kaikki_matsit[Koti], C27, Kaikki_matsit[Kausi],$D$3) -> 0 | J27: =H27-I27 -> 0 | K27: =$K$1*E27 + $K$2*F27 -> 0
D28: =COUNTIFS(Kaikki_matsit[Koti],C28, Kaikki_matsit[Kausi],$D$3) + COUNTIFS(Kaikki_matsit[Vieras],C28, Kaikki_matsit[Kausi],$D$3) + N("kommentti: kotimatsit + vierasmatsit") -> 0 | E28: {=SUM( IF( (Kaikki_matsit[Kotimaalit]>Kaikki_matsit[Vierasmaalit]) * (Kaikki_matsit[Koti]=C28) * (Kaikki_matsit[Kausi]=$D$3), 1, 0)) + SUM( IF( (Kaikki_matsit[Vierasmaalit]>Kaikki_matsit[Kotimaalit]) * (Kaikki_matsit[Vieras]=C28) * (Kaikki_matsit[Kausi]=$D$3), 1, 0))} -> 0 | F28: {=SUM( IF( (Kaikki_matsit[Kotimaalit]=Kaikki_matsit[Vierasmaalit]) * (Kaikki_matsit[Koti]=C28) * (Kaikki_matsit[Kausi]=$D$3), 1, 0)) + SUM( IF( (Kaikki_matsit[Vierasmaalit]=Kaikki_matsit[Kotimaalit]) * (Kaikki_matsit[Vieras]=C28) * (Kaikki_matsit[Kausi]=$D$3), 1, 0))} -> 0 | G28: {=SUM( IF( (Kaikki_matsit[Kotimaalit]<Kaikki_matsit[Vierasmaalit]) * (Kaikki_matsit[Koti]=C28) * (Kaikki_matsit[Kausi]=$D$3), 1, 0)) + SUM( IF( (Kaikki_matsit[Vierasmaalit]<Kaikki_matsit[Kotimaalit]) * (Kaikki_matsit[Vieras]=C28) * (Kaikki_matsit[Kausi]=$D$3), 1, 0))} -> 0 | H28: =SUMIFS( Kaikki_matsit[Kotimaalit], Kaikki_matsit[Koti], C28, Kaikki_matsit[Kausi],$D$3) + SUMIFS( Kaikki_matsit[Vierasmaalit], Kaikki_matsit[Vieras], C28, Kaikki_matsit[Kausi],$D$3) -> 0 | I28: =SUMIFS( Kaikki_matsit[Kotimaalit], Kaikki_matsit[Vieras], C28, Kaikki_matsit[Kausi],$D$3) + SUMIFS( Kaikki_matsit[Vierasmaalit], Kaikki_matsit[Koti], C28, Kaikki_matsit[Kausi],$D$3) -> 0 | J28: =H28-I28 -> 0 | K28: =$K$1*E28 + $K$2*F28 -> 0
D29: =COUNTIFS(Kaikki_matsit[Koti],C29, Kaikki_matsit[Kausi],$D$3) + COUNTIFS(Kaikki_matsit[Vieras],C29, Kaikki_matsit[Kausi],$D$3) + N("kommentti: kotimatsit + vierasmatsit") -> 0 | E29: {=SUM( IF( (Kaikki_matsit[Kotimaalit]>Kaikki_matsit[Vierasmaalit]) * (Kaikki_matsit[Koti]=C29) * (Kaikki_matsit[Kausi]=$D$3), 1, 0)) + SUM( IF( (Kaikki_matsit[Vierasmaalit]>Kaikki_matsit[Kotimaalit]) * (Kaikki_matsit[Vieras]=C29) * (Kaikki_matsit[Kausi]=$D$3), 1, 0))} -> 0 | F29: {=SUM( IF( (Kaikki_matsit[Kotimaalit]=Kaikki_matsit[Vierasmaalit]) * (Kaikki_matsit[Koti]=C29) * (Kaikki_matsit[Kausi]=$D$3), 1, 0)) + SUM( IF( (Kaikki_matsit[Vierasmaalit]=Kaikki_matsit[Kotimaalit]) * (Kaikki_matsit[Vieras]=C29) * (Kaikki_matsit[Kausi]=$D$3), 1, 0))} -> 0 | G29: {=SUM( IF( (Kaikki_matsit[Kotimaalit]<Kaikki_matsit[Vierasmaalit]) * (Kaikki_matsit[Koti]=C29) * (Kaikki_matsit[Kausi]=$D$3), 1, 0)) + SUM( IF( (Kaikki_matsit[Vierasmaalit]<Kaikki_matsit[Kotimaalit]) * (Kaikki_matsit[Vieras]=C29) * (Kaikki_matsit[Kausi]=$D$3), 1, 0))} -> 0 | H29: =SUMIFS( Kaikki_matsit[Kotimaalit], Kaikki_matsit[Koti], C29, Kaikki_matsit[Kausi],$D$3) + SUMIFS( Kaikki_matsit[Vierasmaalit], Kaikki_matsit[Vieras], C29, Kaikki_matsit[Kausi],$D$3) -> 0 | I29: =SUMIFS( Kaikki_matsit[Kotimaalit], Kaikki_matsit[Vieras], C29, Kaikki_matsit[Kausi],$D$3) + SUMIFS( Kaikki_matsit[Vierasmaalit], Kaikki_matsit[Koti], C29, Kaikki_matsit[Kausi],$D$3) -> 0 | J29: =H29-I29 -> 0 | K29: =$K$1*E29 + $K$2*F29 -> 0
D30: =COUNTIFS(Kaikki_matsit[Koti],C30, Kaikki_matsit[Kausi],$D$3) + COUNTIFS(Kaikki_matsit[Vieras],C30, Kaikki_matsit[Kausi],$D$3) + N("kommentti: kotimatsit + vierasmatsit") -> 0 | E30: {=SUM( IF( (Kaikki_matsit[Kotimaalit]>Kaikki_matsit[Vierasmaalit]) * (Kaikki_matsit[Koti]=C30) * (Kaikki_matsit[Kausi]=$D$3), 1, 0)) + SUM( IF( (Kaikki_matsit[Vierasmaalit]>Kaikki_matsit[Kotimaalit]) * (Kaikki_matsit[Vieras]=C30) * (Kaikki_matsit[Kausi]=$D$3), 1, 0))} -> 0 | F30: {=SUM( IF( (Kaikki_matsit[Kotimaalit]=Kaikki_matsit[Vierasmaalit]) * (Kaikki_matsit[Koti]=C30) * (Kaikki_matsit[Kausi]=$D$3), 1, 0)) + SUM( IF( (Kaikki_matsit[Vierasmaalit]=Kaikki_matsit[Kotimaalit]) * (Kaikki_matsit[Vieras]=C30) * (Kaikki_matsit[Kausi]=$D$3), 1, 0))} -> 0 | G30: {=SUM( IF( (Kaikki_matsit[Kotimaalit]<Kaikki_matsit[Vierasmaalit]) * (Kaikki_matsit[Koti]=C30) * (Kaikki_matsit[Kausi]=$D$3), 1, 0)) + SUM( IF( (Kaikki_matsit[Vierasmaalit]<Kaikki_matsit[Kotimaalit]) * (Kaikki_matsit[Vieras]=C30) * (Kaikki_matsit[Kausi]=$D$3), 1, 0))} -> 0 | H30: =SUMIFS( Kaikki_matsit[Kotimaalit], Kaikki_matsit[Koti], C30, Kaikki_matsit[Kausi],$D$3) + SUMIFS( Kaikki_matsit[Vierasmaalit], Kaikki_matsit[Vieras], C30, Kaikki_matsit[Kausi],$D$3) -> 0 | I30: =SUMIFS( Kaikki_matsit[Kotimaalit], Kaikki_matsit[Vieras], C30, Kaikki_matsit[Kausi],$D$3) + SUMIFS( Kaikki_matsit[Vierasmaalit], Kaikki_matsit[Koti], C30, Kaikki_matsit[Kausi],$D$3) -> 0 | J30: =H30-I30 -> 0 | K30: =$K$1*E30 + $K$2*F30 -> 0
D31: =COUNTIFS(Kaikki_matsit[Koti],C31, Kaikki_matsit[Kausi],$D$3) + COUNTIFS(Kaikki_matsit[Vieras],C31, Kaikki_matsit[Kausi],$D$3) + N("kommentti: kotimatsit + vierasmatsit") -> 0 | E31: {=SUM( IF( (Kaikki_matsit[Kotimaalit]>Kaikki_matsit[Vierasmaalit]) * (Kaikki_matsit[Koti]=C31) * (Kaikki_matsit[Kausi]=$D$3), 1, 0)) + SUM( IF( (Kaikki_matsit[Vierasmaalit]>Kaikki_matsit[Kotimaalit]) * (Kaikki_matsit[Vieras]=C31) * (Kaikki_matsit[Kausi]=$D$3), 1, 0))} -> 0 | F31: {=SUM( IF( (Kaikki_matsit[Kotimaalit]=Kaikki_matsit[Vierasmaalit]) * (Kaikki_matsit[Koti]=C31) * (Kaikki_matsit[Kausi]=$D$3), 1, 0)) + SUM( IF( (Kaikki_matsit[Vierasmaalit]=Kaikki_matsit[Kotimaalit]) * (Kaikki_matsit[Vieras]=C31) * (Kaikki_matsit[Kausi]=$D$3), 1, 0))} -> 0 | G31: {=SUM( IF( (Kaikki_matsit[Kotimaalit]<Kaikki_matsit[Vierasmaalit]) * (Kaikki_matsit[Koti]=C31) * (Kaikki_matsit[Kausi]=$D$3), 1, 0)) + SUM( IF( (Kaikki_matsit[Vierasmaalit]<Kaikki_matsit[Kotimaalit]) * (Kaikki_matsit[Vieras]=C31) * (Kaikki_matsit[Kausi]=$D$3), 1, 0))} -> 0 | H31: =SUMIFS( Kaikki_matsit[Kotimaalit], Kaikki_matsit[Koti], C31, Kaikki_matsit[Kausi],$D$3) + SUMIFS( Kaikki_matsit[Vierasmaalit], Kaikki_matsit[Vieras], C31, Kaikki_matsit[Kausi],$D$3) -> 0 | I31: =SUMIFS( Kaikki_matsit[Kotimaalit], Kaikki_matsit[Vieras], C31, Kaikki_matsit[Kausi],$D$3) + SUMIFS( Kaikki_matsit[Vierasmaalit], Kaikki_matsit[Koti], C31, Kaikki_matsit[Kausi],$D$3) -> 0 | J31: =H31-I31 -> 0 | K31: =$K$1*E31 + $K$2*F31 -> 0
D32: =COUNTIFS(Kaikki_matsit[Koti],C32, Kaikki_matsit[Kausi],$D$3) + COUNTIFS(Kaikki_matsit[Vieras],C32, Kaikki_matsit[Kausi],$D$3) + N("kommentti: kotimatsit + vierasmatsit") -> 0 | E32: {=SUM( IF( (Kaikki_matsit[Kotimaalit]>Kaikki_matsit[Vierasmaalit]) * (Kaikki_matsit[Koti]=C32) * (Kaikki_matsit[Kausi]=$D$3), 1, 0)) + SUM( IF( (Kaikki_matsit[Vierasmaalit]>Kaikki_matsit[Kotimaalit]) * (Kaikki_matsit[Vieras]=C32) * (Kaikki_matsit[Kausi]=$D$3), 1, 0))} -> 0 | F32: {=SUM( IF( (Kaikki_matsit[Kotimaalit]=Kaikki_matsit[Vierasmaalit]) * (Kaikki_matsit[Koti]=C32) * (Kaikki_matsit[Kausi]=$D$3), 1, 0)) + SUM( IF( (Kaikki_matsit[Vierasmaalit]=Kaikki_matsit[Kotimaalit]) * (Kaikki_matsit[Vieras]=C32) * (Kaikki_matsit[Kausi]=$D$3), 1, 0))} -> 0 | G32: {=SUM( IF( (Kaikki_matsit[Kotimaalit]<Kaikki_matsit[Vierasmaalit]) * (Kaikki_matsit[Koti]=C32) * (Kaikki_matsit[Kausi]=$D$3), 1, 0)) + SUM( IF( (Kaikki_matsit[Vierasmaalit]<Kaikki_matsit[Kotimaalit]) * (Kaikki_matsit[Vieras]=C32) * (Kaikki_matsit[Kausi]=$D$3), 1, 0))} -> 0 | H32: =SUMIFS( Kaikki_matsit[Kotimaalit], Kaikki_matsit[Koti], C32, Kaikki_matsit[Kausi],$D$3) + SUMIFS( Kaikki_matsit[Vierasmaalit], Kaikki_matsit[Vieras], C32, Kaikki_matsit[Kausi],$D$3) -> 0 | I32: =SUMIFS( Kaikki_matsit[Kotimaalit], Kaikki_matsit[Vieras], C32, Kaikki_matsit[Kausi],$D$3) + SUMIFS( Kaikki_matsit[Vierasmaalit], Kaikki_matsit[Koti], C32, Kaikki_matsit[Kausi],$D$3) -> 0 | J32: =H32-I32 -> 0 | K32: =$K$1*E32 + $K$2*F32 -> 0
D33: =COUNTIFS(Kaikki_matsit[Koti],C33, Kaikki_matsit[Kausi],$D$3) + COUNTIFS(Kaikki_matsit[Vieras],C33, Kaikki_matsit[Kausi],$D$3) + N("kommentti: kotimatsit + vierasmatsit") -> 0 | E33: {=SUM( IF( (Kaikki_matsit[Kotimaalit]>Kaikki_matsit[Vierasmaalit]) * (Kaikki_matsit[Koti]=C33) * (Kaikki_matsit[Kausi]=$D$3), 1, 0)) + SUM( IF( (Kaikki_matsit[Vierasmaalit]>Kaikki_matsit[Kotimaalit]) * (Kaikki_matsit[Vieras]=C33) * (Kaikki_matsit[Kausi]=$D$3), 1, 0))} -> 0 | F33: {=SUM( IF( (Kaikki_matsit[Kotimaalit]=Kaikki_matsit[Vierasmaalit]) * (Kaikki_matsit[Koti]=C33) * (Kaikki_matsit[Kausi]=$D$3), 1, 0)) + SUM( IF( (Kaikki_matsit[Vierasmaalit]=Kaikki_matsit[Kotimaalit]) * (Kaikki_matsit[Vieras]=C33) * (Kaikki_matsit[Kausi]=$D$3), 1, 0))} -> 0 | G33: {=SUM( IF( (Kaikki_matsit[Kotimaalit]<Kaikki_matsit[Vierasmaalit]) * (Kaikki_matsit[Koti]=C33) * (Kaikki_matsit[Kausi]=$D$3), 1, 0)) + SUM( IF( (Kaikki_matsit[Vierasmaalit]<Kaikki_matsit[Kotimaalit]) * (Kaikki_matsit[Vieras]=C33) * (Kaikki_matsit[Kausi]=$D$3), 1, 0))} -> 0 | H33: =SUMIFS( Kaikki_matsit[Kotimaalit], Kaikki_matsit[Koti], C33, Kaikki_matsit[Kausi],$D$3) + SUMIFS( Kaikki_matsit[Vierasmaalit], Kaikki_matsit[Vieras], C33, Kaikki_matsit[Kausi],$D$3) -> 0 | I33: =SUMIFS( Kaikki_matsit[Kotimaalit], Kaikki_matsit[Vieras], C33, Kaikki_matsit[Kausi],$D$3) + SUMIFS( Kaikki_matsit[Vierasmaalit], Kaikki_matsit[Koti], C33, Kaikki_matsit[Kausi],$D$3) -> 0 | J33: =H33-I33 -> 0 | K33: =$K$1*E33 + $K$2*F33 -> 0

Sheet Maalit
A1: Kirjoita/kopioi kaikki joukkueet A ja H -sarakkeisiin täsmälleen samassa muodossa kuin Kaikki matsit -taulukossa. Kaikki muu muodostuu kaavoina eli tiedot haetaan Kaikki matsit -taulukosta.
A2: Älä lisää alla oleviin taulukoihin ylimääräisiä sarakkeita. Jos lisäät, joudut muokkaamaan seuraavissa taulukoissa olevia PHAKU (VLOOKUP) -funktioita.
A4: Syötä mitkä ottelut huomioidaan laskennassa: | D4: >=2013
K5: Ohjeessa oli mielestäni K-sarakkeen jakolasku väärin päin, joten käänsin jakolaskun toisin päin?
A6: Kotipelit | H6: Vieraspelit
A7: Summa | B7: =SUM(Kotipelimaalit[Kaikki matsit]) -> 760 | C7: =SUM(Kotipelimaalit[Tehdyt kotimaalit]) -> 1190 | E7: =SUM(Kotipelimaalit[Hävityt kotimaalit]) -> 923 | H7: Summa | I7: =SUM(Vieraspelimaalit[Kaikki matsit]) -> 760 | J7: =SUM(Vieraspelimaalit[Tehdyt vierasmaalit]) -> 923 | L7: =SUM(Vieraspelimaalit[Hävityt vierasmaalit]) -> 1190
A8: Keskiarvo | B8: =AVERAGE(Kotipelimaalit[Kaikki matsit]) -> 38 | C8: =AVERAGE(Kotipelimaalit[Tehdyt kotimaalit]) -> 59.5 | D8: =AVERAGE(Kotipelimaalit[KA tehdyt]) -> 1.5657895 | E8: =AVERAGE(Kotipelimaalit[Hävityt kotimaalit]) -> 46.15 | F8: =AVERAGE(Kotipelimaalit[KA hävityt]) -> 1.2144737 | H8: Keskiarvo | I8: =AVERAGE(Vieraspelimaalit[Kaikki matsit]) -> 38 | J8: =AVERAGE(Vieraspelimaalit[Tehdyt vierasmaalit]) -> 46.15 | K8: =AVERAGE(Vieraspelimaalit[KA tehdyt]) -> 1.2144737 | L8: =AVERAGE(Vieraspelimaalit[Hävityt vierasmaalit]) -> 59.5 | M8: =AVERAGE(Vieraspelimaalit[KA hävityt]) -> 1.5657895
A10: Kotipelimaalit-taulukko: | H10: Vieraspelimaalit-taulukko:
A11: Joukkue | B11: Kaikki matsit | C11: Tehdyt kotimaalit | D11: KA tehdyt | E11: Hävityt kotimaalit | F11: KA hävityt | H11: Joukkue | I11: Kaikki matsit | J11: Tehdyt vierasmaalit | K11: KA tehdyt | L11: Hävityt vierasmaalit | M11: KA hävityt
A12: Arsenal | B12: =COUNTIFS(Kaikki_matsit[Koti], Kotipelimaalit[[#This Row],[Joukkue]], Kaikki_matsit[Kausi], $D$4) -> 38 | C12: =SUMIFS(Kaikki_matsit[Kotimaalit], Kaikki_matsit[Koti], Kotipelimaalit[[#This Row],[Joukkue]], Kaikki_matsit[Kausi], $D$4) -> 72 | D12: =IFERROR(Kotipelimaalit[[#This Row],[Tehdyt kotimaalit]]/Kotipelimaalit[[#This Row],[Kaikki matsit]],"") -> 1.8947368 | E12: =SUMIFS(Kaikki_matsit[Vierasmaalit], Kaikki_matsit[Koti], Kotipelimaalit[[#This Row],[Joukkue]], Kaikki_matsit[Kausi], $D$4) -> 26 | F12: =IFERROR(Kotipelimaalit[[#This Row],[Hävityt kotimaalit]]/Kotipelimaalit[[#This Row],[Kaikki matsit]],"") -> 0.68421053 | H12: Arsenal | I12: =COUNTIFS(Kaikki_matsit[Vieras], Vieraspelimaalit[[#This Row],[Joukkue]], Kaikki_matsit[Kausi], $D$4) -> 38 | J12: =SUMIFS(Kaikki_matsit[Vierasmaalit], Kaikki_matsit[Vieras], Vieraspelimaalit[[#This Row],[Joukkue]], Kaikki_matsit[Kausi], $D$4 ) -> 64 | K12: =IFERROR(Vieraspelimaalit[[#This Row],[Tehdyt vierasmaalit]]/Vieraspelimaalit[[#This Row],[Kaikki matsit]],"") -> 1.6842105 | L12: =SUMIFS(Kaikki_matsit[Kotimaalit], Kaikki_matsit[Vieras], Vieraspelimaalit[[#This Row],[Joukkue]], Kaikki_matsit[Kausi], $D$4 ) -> 60 | M12: =IFERROR(Vieraspelimaalit[[#This Row],[Hävityt vierasmaalit]]/Vieraspelimaalit[[#This Row],[Kaikki matsit]],"") -> 1.5789474
A13: Aston Villa | B13: =COUNTIFS(Kaikki_matsit[Koti], Kotipelimaalit[[#This Row],[Joukkue]], Kaikki_matsit[Kausi], $D$4) -> 38 | C13: =SUMIFS(Kaikki_matsit[Kotimaalit], Kaikki_matsit[Koti], Kotipelimaalit[[#This Row],[Joukkue]], Kaikki_matsit[Kausi], $D$4) -> 41 | D13: =IFERROR(Kotipelimaalit[[#This Row],[Tehdyt kotimaalit]]/Kotipelimaalit[[#This Row],[Kaikki matsit]],"") -> 1.0789474 | E13: =SUMIFS(Kaikki_matsit[Vierasmaalit], Kaikki_matsit[Koti], Kotipelimaalit[[#This Row],[Joukkue]], Kaikki_matsit[Kausi], $D$4) -> 62 | F13: =IFERROR(Kotipelimaalit[[#This Row],[Hävityt kotimaalit]]/Kotipelimaalit[[#This Row],[Kaikki matsit]],"") -> 1.6315789 | H13: Aston Villa | I13: =COUNTIFS(Kaikki_matsit[Vieras], Vieraspelimaalit[[#This Row],[Joukkue]], Kaikki_matsit[Kausi], $D$4) -> 38 | J13: =SUMIFS(Kaikki_matsit[Vierasmaalit], Kaikki_matsit[Vieras], Vieraspelimaalit[[#This Row],[Joukkue]], Kaikki_matsit[Kausi], $D$4 ) -> 32 | K13: =IFERROR(Vieraspelimaalit[[#This Row],[Tehdyt vierasmaalit]]/Vieraspelimaalit[[#This Row],[Kaikki matsit]],"") -> 0.84210526 | L13: =SUMIFS(Kaikki_matsit[Kotimaalit], Kaikki_matsit[Vieras], Vieraspelimaalit[[#This Row],[Joukkue]], Kaikki_matsit[Kausi], $D$4 ) -> 64 | M13: =IFERROR(Vieraspelimaalit[[#This Row],[Hävityt vierasmaalit]]/Vieraspelimaalit[[#This Row],[Kaikki matsit]],"") -> 1.6842105
A14: Cardiff City | B14: =COUNTIFS(Kaikki_matsit[Koti], Kotipelimaalit[[#This Row],[Joukkue]], Kaikki_matsit[Kausi], $D$4) -> 38 | C14: =SUMIFS(Kaikki_matsit[Kotimaalit], Kaikki_matsit[Koti], Kotipelimaalit[[#This Row],[Joukkue]], Kaikki_matsit[Kausi], $D$4) -> 40 | D14: =IFERROR(Kotipelimaalit[[#This Row],[Tehdyt kotimaalit]]/Kotipelimaalit[[#This Row],[Kaikki matsit]],"") -> 1.0526316 | E14: =SUMIFS(Kaikki_matsit[Vierasmaalit], Kaikki_matsit[Koti], Kotipelimaalit[[#This Row],[Joukkue]], Kaikki_matsit[Kausi], $D$4) -> 70 | F14: =IFERROR(Kotipelimaalit[[#This Row],[Hävityt kotimaalit]]/Kotipelimaalit[[#This Row],[Kaikki matsit]],"") -> 1.8421053 | H14: Cardiff City | I14: =COUNTIFS(Kaikki_matsit[Vieras], Vieraspelimaalit[[#This Row],[Joukkue]], Kaikki_matsit[Kausi], $D$4) -> 38 | J14: =SUMIFS(Kaikki_matsit[Vierasmaalit], Kaikki_matsit[Vieras], Vieraspelimaalit[[#This Row],[Joukkue]], Kaikki_matsit[Kausi], $D$4 ) -> 24 | K14: =IFERROR(Vieraspelimaalit[[#This Row],[Tehdyt vierasmaalit]]/Vieraspelimaalit[[#This Row],[Kaikki matsit]],"") -> 0.63157895 | L14: =SUMIFS(Kaikki_matsit[Kotimaalit], Kaikki_matsit[Vieras], Vieraspelimaalit[[#This Row],[Joukkue]], Kaikki_matsit[Kausi], $D$4 ) -> 78 | M14: =IFERROR(Vieraspelimaalit[[#This Row],[Hävityt vierasmaalit]]/Vieraspelimaalit[[#This Row],[Kaikki matsit]],"") -> 2.0526316
A15: Chelsea | B15: =COUNTIFS(Kaikki_matsit[Koti], Kotipelimaalit[[#This Row],[Joukkue]], Kaikki_matsit[Kausi], $D$4) -> 38 | C15: =SUMIFS(Kaikki_matsit[Kotimaalit], Kaikki_matsit[Koti], Kotipelimaalit[[#This Row],[Joukkue]], Kaikki_matsit[Kausi], $D$4) -> 86 | D15: =IFERROR(Kotipelimaalit[[#This Row],[Tehdyt kotimaalit]]/Kotipelimaalit[[#This Row],[Kaikki matsit]],"") -> 2.2631579 | E15: =SUMIFS(Kaikki_matsit[Vierasmaalit], Kaikki_matsit[Koti], Kotipelimaalit[[#This Row],[Joukkue]], Kaikki_matsit[Kausi], $D$4) -> 22 | F15: =IFERROR(Kotipelimaalit[[#This Row],[Hävityt kotimaalit]]/Kotipelimaalit[[#This Row],[Kaikki matsit]],"") -> 0.57894737 | H15: Chelsea | I15: =COUNTIFS(Kaikki_matsit[Vieras], Vieraspelimaalit[[#This Row],[Joukkue]], Kaikki_matsit[Kausi], $D$4) -> 38 | J15: =SUMIFS(Kaikki_matsit[Vierasmaalit], Kaikki_matsit[Vieras], Vieraspelimaalit[[#This Row],[Joukkue]], Kaikki_matsit[Kausi], $D$4 ) -> 56 | K15: =IFERROR(Vieraspelimaalit[[#This Row],[Tehdyt vierasmaalit]]/Vieraspelimaalit[[#This Row],[Kaikki matsit]],"") -> 1.4736842 | L15: =SUMIFS(Kaikki_matsit[Kotimaalit], Kaikki_matsit[Vieras], Vieraspelimaalit[[#This Row],[Joukkue]], Kaikki_matsit[Kausi], $D$4 ) -> 32 | M15: =IFERROR(Vieraspelimaalit[[#This Row],[Hävityt vierasmaalit]]/Vieraspelimaalit[[#This Row],[Kaikki matsit]],"") -> 0.84210526
