Workbook
Name CompEmail: Controls!$C$10
Name CompEmailURL: Controls!$C$11
Name CompFlag: Controls!$C$8
Name CompName: Controls!$C$7
Name CompNum: Controls!$C$6
Name CompURL: Controls!$C$9
Name Lang: Controls!$C$5
Name LangNum: Controls!$C$4
Name Resp_01_01: '01-01'!$K:$AC
Name Resp_01_02: '01-02'!$L:$AD
Name Resp_02_01: '02'!$L:$AD
Name Resp_03_01: '03'!$L$11
Name Resp_03_02: '03'!$L$12
Name Resp_03_03: '03'!$L$13
Name Resp_03_04: '03'!$L$14
Name Resp_03_05: '03'!$L$15
Name Resp_03_99: '03'!$O:$AG
Name RndNum: Controls!$C$12
Name Slicer_Competition_Name: #N/A
Name Slicer_Select_Message: #N/A

Sheet Control Pivots
A4: Language # | B4: Language | C4: Select Message | M4: Competition # | N4: Competition Name | O4: Competition Flag | P4: Competition Web URL | Q4: Competition Email
A5: 6 | B5: Finnish | C5: Valitse suomi klikkaamalla tästä | M5: 6 | N5: #ExcelChampFI | O5: FI | P5: http://aka.ms/ExcelChampFI | Q5: ExcelChampFI@service.microsoft.com

Sheet Controls
B3: Selections
B4: Language # | C4: =MIN('Control Pivots'!$A$1:$A$100) -> 6
B5: Language | C5: =INDEX(Lang_Select[Language],MATCH($C$4,Lang_Select[Language '#],0)) -> Finnish
B6: Competition # | C6: =MIN('Control Pivots'!$M$1:$M$100) -> 6
B7: Competition Name | C7: =INDEX(Comp_Select[Competition Name],MATCH($C$6,Comp_Select[Competition '#],0)) -> #ExcelChampFI
B8: Competition Flag | C8: =INDEX(Comp_Select[Competition Flag],MATCH($C$6,Comp_Select[Competition '#],0)) -> FI
B9: Competition URL | C9: =INDEX(Comp_Select[Competition Web URL],MATCH($C$6,Comp_Select[Competition '#],0)) -> http://aka.ms/ExcelChampFI
B10: Competition Email | C10: =INDEX(Comp_Select[Competition Email],MATCH($C$6,Comp_Select[Competition '#],0)) -> ExcelChampFI@service.microsoft.com
B11: Competition Email URL | C11: ="mailto:"&C10 -> mailto:ExcelChampFI@service.microsoft.com
B12: Round Number | C12: 1
B15: Language # | C15: Language | D15: Select Message
B16: 1 | C16: English | D16: Click here for English
B17: 6 | C17: Finnish | D17: Valitse suomi klikkaamalla tästä
B19: Competition # | C19: Competition Name | D19: Competition Flag | E19: Competition Web URL | F19: Competition Email | G19: Competition Thread ID
B20: 1 | C20: #ExcelChampINTL | D20: INTL | E20: http://aka.ms/ExcelChampINTL | F20: ExcelChampINTL@service.microsoft.com | G20: 12696
B21: 2 | C21: #ExcelChampBE | D21: BE | E21: http://aka.ms/ExcelChampBE | F21: ExcelChampBE@service.microsoft.com | G21: 12730
B22: 3 | C22: #ExcelChampCA | D22: CA | E22: http://aka.ms/ExcelChampCA | F22: ExcelChampCA@service.microsoft.com | G22: 12725
B23: 4 | C23: #ExcelChampCN | D23: CN | E23: http://aka.ms/ExcelChampCN | F23: ExcelChampCN@service.microsoft.com | G23: 12731
B24: 5 | C24: #ExcelChampDK | D24: DK | E24: http://aka.ms/ExcelChampDK | F24: ExcelChampDK@service.microsoft.com | G24: 12962
B25: 6 | C25: #ExcelChampFI | D25: FI | E25: http://aka.ms/ExcelChampFI | F25: ExcelChampFI@service.microsoft.com | G25: 12940
B26: 7 | C26: #ExcelChampJP | D26: JP | E26: http://aka.ms/ExcelChampJP | F26: ExcelChampJP@service.microsoft.com | G26: 12829
B27: 8 | C27: #ExcelChampMY | D27: MY | E27: http://aka.ms/ExcelChampMY | F27: ExcelChampMY@service.microsoft.com | G27: 12917
B28: 9 | C28: #ExcelChampMX | D28: MX | E28: http://aka.ms/ExcelChampMX | F28: ExcelChampMX@service.microsoft.com | G28: 12793
B29: 10 | C29: #ExcelChampPH | D29: PH | E29: http://aka.ms/ExcelChampPH | F29: ExcelChampPH@service.microsoft.com | G29: 12780
B30: 11 | C30: #ExcelChampSA | D30: SA | E30: http://aka.ms/ExcelChampSA | F30: ExcelChampSA@service.microsoft.com | G30: 12882
B31: 12 | C31: #ExcelChampSE | D31: SE | E31: http://aka.ms/ExcelChampSE | F31: ExcelChampSE@service.microsoft.com | G31: 12728
B32: 13 | C32: #ExcelChampTR | D32: TR | E32: http://aka.ms/ExcelChampTR | F32: ExcelChampTR@service.microsoft.com | G32: 12800
B33: 14 | C33: #ExcelChampXLPM | D33: XLPM | F33: ExcelChampXLPM@service.microsoft.com
B34: 15 | C34: #ExcelWorldChamp | D34: WC | E34: http://aka.ms/ExcelWorldChamp | F34: ExcelWorldChamp@service.microsoft.com | G34: 12797
B40: Message ID | C40: Selected Language | E40: Select your Region | F40: Mihin Excel-heimoon kuulut? Valitse vapaasti, mitä aluetta haluat edustaa kisoissa:
B41: 0.0.01 | C41: =OFFSET(Txt_All_Lang[[#Headers],[Message_ID]],MATCH(Txt_Sel_Lang[[#This Row],[Message ID]],Txt_All_Lang[Message_ID],0),MATCH(Lang,Txt_All_Lang[#Headers],0)-1) -> Tervetuloa Testaa taitosi -kierrokselle | F41: Etelä-Suomi (South)
B42: 0.0.02 | C42: =OFFSET(Txt_All_Lang[[#Headers],[Message_ID]],MATCH(Txt_Sel_Lang[[#This Row],[Message ID]],Txt_All_Lang[Message_ID],0),MATCH(Lang,Txt_All_Lang[#Headers],0)-1) -> Tämä työkirja sisältää kolme lajia: | F42: Keski-Suomi (Central)
B43: 0.0.03 | C43: =OFFSET(Txt_All_Lang[[#Headers],[Message_ID]],MATCH(Txt_Sel_Lang[[#This Row],[Message ID]],Txt_All_Lang[Message_ID],0),MATCH(Lang,Txt_All_Lang[#Headers],0)-1) -> Laji 1: Datanmurskausviesti | F43: Pohjois-Suomi (North)
B44: 0.0.04 | C44: =OFFSET(Txt_All_Lang[[#Headers],[Message_ID]],MATCH(Txt_Sel_Lang[[#This Row],[Message ID]],Txt_All_Lang[Message_ID],0),MATCH(Lang,Txt_All_Lang[#Headers],0)-1) -> Laji 2: Rytminen kaaviovoimistelu
B45: 0.0.05 | C45: =OFFSET(Txt_All_Lang[[#Headers],[Message_ID]],MATCH(Txt_Sel_Lang[[#This Row],[Message ID]],Txt_All_Lang[Message_ID],0),MATCH(Lang,Txt_All_Lang[#Headers],0)-1) -> Laji 3: Kaavapaini
B46: 0.0.06 | C46: =OFFSET(Txt_All_Lang[[#Headers],[Message_ID]],MATCH(Txt_Sel_Lang[[#This Row],[Message ID]],Txt_All_Lang[Message_ID],0),MATCH(Lang,Txt_All_Lang[#Headers],0)-1) -> Näin osallistut kisaan:
B47: 0.0.07 | C47: =OFFSET(Txt_All_Lang[[#Headers],[Message_ID]],MATCH(Txt_Sel_Lang[[#This Row],[Message ID]],Txt_All_Lang[Message_ID],0),MATCH(Lang,Txt_All_Lang[#Headers],0)-1) -> Osallistu eri lajeihin vastaamalla annettuihin tehtäviin mahdollisimman täydellisesti taitojesi mukaan. Sinun ei ole pakko vastata kaikkiin tehtäviin.
B48: 0.0.08 | C48: =OFFSET(Txt_All_Lang[[#Headers],[Message_ID]],MATCH(Txt_Sel_Lang[[#This Row],[Message ID]],Txt_All_Lang[Message_ID],0),MATCH(Lang,Txt_All_Lang[#Headers],0)-1) -> Tallenna työkirjasi ".xlsx"-päätteisenä Excel-tiedostona.
B49: 0.0.09 | C49: =OFFSET(Txt_All_Lang[[#Headers],[Message_ID]],MATCH(Txt_Sel_Lang[[#This Row],[Message ID]],Txt_All_Lang[Message_ID],0),MATCH(Lang,Txt_All_Lang[#Headers],0)-1) -> Lähetä vastaukset sisältävä työkirjasi sähköpostin liitteenä osoitteeseen <CompEmail>
B50: 0.0.10 | C50: =OFFSET(Txt_All_Lang[[#Headers],[Message_ID]],MATCH(Txt_Sel_Lang[[#This Row],[Message ID]],Txt_All_Lang[Message_ID],0),MATCH(Lang,Txt_All_Lang[#Headers],0)-1) -> Huomaa! Varmista, että lähetät sähköpostin varmasti samasta osoitteesta, josta kirjaudut Excel-yhteisösivustolle ja jota olet käyttänyt mm. tykkäämiseen yhteisösivustolla.
...

Sheet 00
C1: `
B2: =CompName -> #ExcelChampFI | F2: =Controls!$C$41 -> Tervetuloa Testaa taitosi -kierrokselle
E3: =Controls!$C$42 -> Tämä työkirja sisältää kolme lajia:
F4: =Controls!$C$43 -> Laji 1: Datanmurskausviesti
F5: =Controls!$C$44 -> Laji 2: Rytminen kaaviovoimistelu
F6: =Controls!$C$45 -> Laji 3: Kaavapaini
E8: =Controls!$C$46 -> Näin osallistut kisaan:
E9: 1 | F9: =Controls!$C$47 -> Osallistu eri lajeihin vastaamalla annettuihin tehtäviin mahdollisimman täydellisesti taitojesi mukaan. Sinun ei ole pakko vastata kaikkiin tehtäviin.
E10: 2 | F10: =Controls!$C$48 -> Tallenna työkirjasi ".xlsx"-päätteisenä Excel-tiedostona.
E11: 3 | F11: =HYPERLINK(CompEmailURL,SUBSTITUTE(Controls!$C$49,"<CompEmail>",CompEmail)) -> Lähetä vastaukset sisältävä työkirjasi sähköpostin liitteenä osoitteeseen ExcelChampFI@service.microsoft.com
F12: =Controls!$C$50 -> Huomaa! Varmista, että lähetät sähköpostin varmasti samasta osoitteesta, josta kirjaudut Excel-yhteisösivustolle ja jota olet käyttänyt mm. tykkäämiseen yhteisösivustolla.
E13: 4 | F13: =HYPERLINK(CompURL,SUBSTITUTE(Controls!$C$51,"<CompURL>",CompURL)) -> Julkaise Rytmisen kaavavoimistelun vastauksesi kuva sivulla http://aka.ms/ExcelChampFI
F14: =Controls!$C$52 -> Jokainen vastausajan sisällä saamasi tykkäys ("Like") yhteisösivustolla tuo sinulle lisäpisteitä lajin 2 ohjeiden mukaisesti.
F16: =Controls!$C$53 -> Mihin Excel-heimoon kuulut? Valitse vapaasti, mitä aluetta haluat edustaa kisoissa:
F19: =Controls!$C$54 -> Onnea kisaan! | G19: =HYPERLINK(IF(F17="","#"&CELL("address",F17),"#"&CELL("address",'01-01'!C1)),Controls!$C$55) -> Aloita kisa >>

Sheet 01-01
K1: >> | L1: =Controls!$C$57 -> Vastausosio | AC1: <<
D2: =Controls!$C$61 -> Datanmurskausviesti - Osa 1 | K2: >> | L2: =Controls!$C$58 -> Kaikkien vastausten pitää olla näiden sarakkeiden välissä. Lisää väliin sarakkeita tai muuta niiden kokoa, jos tarvitset lisää tilaa. | AC2: <<
D3: =Controls!$C$62 -> Alla on kolme taulukkoa 100 metrin pikajuoksun tuloksista ja kilpailijoista.
D4: =Controls!$C$63 -> Taulukko 1 sisältää jokaisen kilpailijan tulokset kolmesta eri erästä
D5: =Controls!$C$64 -> Taulukko 2 sisältää jokaisen kilpailijan maan. | M5: Manuaalisesti kopioi-liitä tekniikalla tuotettu lopputulos
D6: =Controls!$C$65 -> Taulukko 3 sisältää jokaisen kilpailijan iän vuosina.
D8: =Controls!$C$66 -> Luo uusi taulukko oikealla olevaan vastausosioon, joka sisältää tietoja vain niistä urheilijoista, jotka osallistuivat erään 3. | M8: Name | N8: Country | O8: Age | P8: Round 1 | Q8: Round 2 | R8: Round 3
D9: =Controls!$C$67 -> Lisää yhdelle riville jokaisesta urheilijasta seuraavat tiedot: nimi, maa, ikä ja loppuaika JOKAISESTA erästä. | M9: THOMPSON Elaine | N9: JAM | O9: 24.14 | P9: 11.21 | Q9: 10.88 | R9: 10.71
D10: =Controls!$C$68 -> Taulukkosi tiedot pitää olla TÄSMÄLLEEN samoin kuin annetuissa tietotaulukoissa. | M10: BOWIE Tori | N10: USA | O10: 25.98 | P10: 11.13 | Q10: 10.9 | R10: 10.83
D11: =Controls!$C$69 -> Urheilijoiden nimet pitää olla lajiteltuna heidän erän 3 loppuajan perusteella (nopein loppuaika ensin ja hitain loppuaika viimeisenä) | M11: FRASER-PRYCE Shelly-Ann | N11: JAM | O11: 29.65 | P11: 10.96 | Q11: 10.88 | R11: 10.86
D12: =Controls!$C$70 -> Mikäli urheilijoilla on sama loppuaika erässä 3, lajittele heidät edelleen vastaavasti erän 2 loppuajan perusteella (nopein loppuaika ensin). | M12: TA LOU Marie-Josee | N12: CIV | O12: 27.75 | P12: 11.01 | Q12: 10.94 | R12: 10.86
M13: SCHIPPERS Dafne | N13: NED | O13: 24.18 | P13: 11.16 | Q13: 10.9 | R13: 10.9
D14: =Controls!$C$71&" "&Controls!$C$72 -> Tietolähde: https://smsprio2016-a.akamaihd.net/_sport/R/i/Rio_2016_Athletics_Results_Book_V1.0.pdf | M14: AHYE Michelle-Lee | N14: TTO | O14: 24.36 | P14: 11 | Q14: 10.9 | R14: 10.92
M15: GARDNER English | N15: USA | O15: 24.33 | P15: 11.09 | Q15: 10.9 | R15: 10.94
M16: WILLIAMS Christania | N16: JAM | O16: 21.84 | P16: 11.27 | Q16: 10.96 | R16: 11.8
D17: =Controls!$C$73 -> Taulukko 1: Tulokset
D18: =Controls!$C$74 -> Erän numero | E18: =Controls!$C$75 -> Nimi | F18: =Controls!$C$76 -> Loppuaika (s) | M18: Kaavojen avulla tuotettu lopputulos (Name-sarake on luotu manuaalisesti kopioimalla)
D19: Round Number | E19: Name | F19: Result Time (s) | M19: Ks. Rivillä 9 olevat kommentit (punainen kolmio kyseisissä soluissa)
D20: 3 | E20: THOMPSON Elaine | F20: 10.71
D21: 3 | E21: BOWIE Tori | F21: 10.83 | M21: Name | N21: Country | O21: Age | P21: Round 1 | Q21: Round 2 | R21: Round 3
D22: 3 | E22: FRASER-PRYCE Shelly-Ann | F22: 10.86 | M22: THOMPSON Elaine | N22: =INDEX(Urheilijat_maittain[Country], MATCH( Taulukko12[[#This Row],[Name]], Urheilijat_maittain[Name], 0) ) -> JAM | O22: =VLOOKUP( Taulukko12[[#This Row],[Name]], Urheilijoiden_iät[], 2, FALSE) -> 24.14 | P22: =SUMIFS( Tulokset[Result Time (s)], Tulokset[Name],Taulukko12[[#This Row],[Name]], Tulokset[Round Number],1) -> 11.21 | Q22: =SUMIFS( Tulokset[Result Time (s)], Tulokset[Name],Taulukko12[[#This Row],[Name]], Tulokset[Round Number],2) -> 10.88 | R22: =SUMIFS( Tulokset[Result Time (s)], Tulokset[Name],Taulukko12[[#This Row],[Name]], Tulokset[Round Number],3) -> 10.71
D23: 3 | E23: TA LOU Marie-Josee | F23: 10.86 | M23: BOWIE Tori | N23: =INDEX(Urheilijat_maittain[Country], MATCH( Taulukko12[[#This Row],[Name]], Urheilijat_maittain[Name], 0) ) -> USA | O23: =VLOOKUP( Taulukko12[[#This Row],[Name]], Urheilijoiden_iät[], 2, FALSE) -> 25.98 | P23: =SUMIFS( Tulokset[Result Time (s)], Tulokset[Name],Taulukko12[[#This Row],[Name]], Tulokset[Round Number],1) -> 11.13 | Q23: =SUMIFS( Tulokset[Result Time (s)], Tulokset[Name],Taulukko12[[#This Row],[Name]], Tulokset[Round Number],2) -> 10.9 | R23: =SUMIFS( Tulokset[Result Time (s)], Tulokset[Name],Taulukko12[[#This Row],[Name]], Tulokset[Round Number],3) -> 10.83
D24: 3 | E24: SCHIPPERS Dafne | F24: 10.9 | M24: FRASER-PRYCE Shelly-Ann | N24: =INDEX(Urheilijat_maittain[Country], MATCH( Taulukko12[[#This Row],[Name]], Urheilijat_maittain[Name], 0) ) -> JAM | O24: =VLOOKUP( Taulukko12[[#This Row],[Name]], Urheilijoiden_iät[], 2, FALSE) -> 29.65 | P24: =SUMIFS( Tulokset[Result Time (s)], Tulokset[Name],Taulukko12[[#This Row],[Name]], Tulokset[Round Number],1) -> 10.96 | Q24: =SUMIFS( Tulokset[Result Time (s)], Tulokset[Name],Taulukko12[[#This Row],[Name]], Tulokset[Round Number],2) -> 10.88 | R24: =SUMIFS( Tulokset[Result Time (s)], Tulokset[Name],Taulukko12[[#This Row],[Name]], Tulokset[Round Number],3) -> 10.86
D25: 3 | E25: AHYE Michelle-Lee | F25: 10.92 | M25: TA LOU Marie-Josee | N25: =INDEX(Urheilijat_maittain[Country], MATCH( Taulukko12[[#This Row],[Name]], Urheilijat_maittain[Name], 0) ) -> CIV | O25: =VLOOKUP( Taulukko12[[#This Row],[Name]], Urheilijoiden_iät[], 2, FALSE) -> 27.75 | P25: =SUMIFS( Tulokset[Result Time (s)], Tulokset[Name],Taulukko12[[#This Row],[Name]], Tulokset[Round Number],1) -> 11.01 | Q25: =SUMIFS( Tulokset[Result Time (s)], Tulokset[Name],Taulukko12[[#This Row],[Name]], Tulokset[Round Number],2) -> 10.94 | R25: =SUMIFS( Tulokset[Result Time (s)], Tulokset[Name],Taulukko12[[#This Row],[Name]], Tulokset[Round Number],3) -> 10.86
D26: 3 | E26: GARDNER English | F26: 10.94 | M26: SCHIPPERS Dafne | N26: =INDEX(Urheilijat_maittain[Country], MATCH( Taulukko12[[#This Row],[Name]], Urheilijat_maittain[Name], 0) ) -> NED | O26: =VLOOKUP( Taulukko12[[#This Row],[Name]], Urheilijoiden_iät[], 2, FALSE) -> 24.18 | P26: =SUMIFS( Tulokset[Result Time (s)], Tulokset[Name],Taulukko12[[#This Row],[Name]], Tulokset[Round Number],1) -> 11.16 | Q26: =SUMIFS( Tulokset[Result Time (s)], Tulokset[Name],Taulukko12[[#This Row],[Name]], Tulokset[Round Number],2) -> 10.9 | R26: =SUMIFS( Tulokset[Result Time (s)], Tulokset[Name],Taulukko12[[#This Row],[Name]], Tulokset[Round Number],3) -> 10.9
D27: 3 | E27: WILLIAMS Christania | F27: 11.8 | M27: AHYE Michelle-Lee | N27: =INDEX(Urheilijat_maittain[Country], MATCH( Taulukko12[[#This Row],[Name]], Urheilijat_maittain[Name], 0) ) -> TTO | O27: =VLOOKUP( Taulukko12[[#This Row],[Name]], Urheilijoiden_iät[], 2, FALSE) -> 24.36 | P27: =SUMIFS( Tulokset[Result Time (s)], Tulokset[Name],Taulukko12[[#This Row],[Name]], Tulokset[Round Number],1) -> 11 | Q27: =SUMIFS( Tulokset[Result Time (s)], Tulokset[Name],Taulukko12[[#This Row],[Name]], Tulokset[Round Number],2) -> 10.9 | R27: =SUMIFS( Tulokset[Result Time (s)], Tulokset[Name],Taulukko12[[#This Row],[Name]], Tulokset[Round Number],3) -> 10.92
D28: 2 | E28: FRASER-PRYCE Shelly-Ann | F28: 10.88 | M28: GARDNER English | N28: =INDEX(Urheilijat_maittain[Country], MATCH( Taulukko12[[#This Row],[Name]], Urheilijat_maittain[Name], 0) ) -> USA | O28: =VLOOKUP( Taulukko12[[#This Row],[Name]], Urheilijoiden_iät[], 2, FALSE) -> 24.33 | P28: =SUMIFS( Tulokset[Result Time (s)], Tulokset[Name],Taulukko12[[#This Row],[Name]], Tulokset[Round Number],1) -> 11.09 | Q28: =SUMIFS( Tulokset[Result Time (s)], Tulokset[Name],Taulukko12[[#This Row],[Name]], Tulokset[Round Number],2) -> 10.9 | R28: =SUMIFS( Tulokset[Result Time (s)], Tulokset[Name],Taulukko12[[#This Row],[Name]], Tulokset[Round Number],3) -> 10.94
D29: 2 | E29: THOMPSON Elaine | F29: 10.88 | M29: WILLIAMS Christania | N29: =INDEX(Urheilijat_maittain[Country], MATCH( Taulukko12[[#This Row],[Name]], Urheilijat_maittain[Name], 0) ) -> JAM | O29: =VLOOKUP( Taulukko12[[#This Row],[Name]], Urheilijoiden_iät[], 2, FALSE) -> 21.84 | P29: =SUMIFS( Tulokset[Result Time (s)], Tulokset[Name],Taulukko12[[#This Row],[Name]], Tulokset[Round Number],1) -> 11.27 | Q29: =SUMIFS( Tulokset[Result Time (s)], Tulokset[Name],Taulukko12[[#This Row],[Name]], Tulokset[Round Number],2) -> 10.96 | R29: =SUMIFS( Tulokset[Result Time (s)], Tulokset[Name],Taulukko12[[#This Row],[Name]], Tulokset[Round Number],3) -> 11.8
D30: 2 | E30: BOWIE Tori | F30: 10.9
D31: 2 | E31: GARDNER English | F31: 10.9 | M31: Lopputuloksen voisi toteuttaa myös Excelin Hae & Muunna (Get & Transform ent. Power Query) -työkalulla.
D32: 2 | E32: SCHIPPERS Dafne | F32: 10.9 | M32: Työkalun käyttöä edellytetään vasta tulevilla kierroksilla.
D33: 2 | E33: AHYE Michelle-Lee | F33: 10.9
D34: 2 | E34: TA LOU Marie-Josee | F34: 10.94
D35: 2 | E35: WILLIAMS Christania | F35: 10.96
D36: 2 | E36: BARTOLETTA Tianna | F36: 11
D37: 2 | E37: AHOURE Murielle | F37: 11.01
D38: 2 | E38: OKAGBARE Blessing | F38: 11.09
D39: 2 | E39: HENRY Desiree | F39: 11.09
D40: 2 | E40: TENORIO Angela | F40: 11.14
D41: 2 | E41: KAMBUNDJI Mujinga | F41: 11.16
...

Sheet 01-02
L1: >> | M1: =Controls!$C$57 -> Vastausosio | AD1: <<
D2: =Controls!$C$87 -> Datanmurskausviesti - Osa 2 | L2: >> | M2: =Controls!$C$58 -> Kaikkien vastausten pitää olla näiden sarakkeiden välissä. Lisää väliin sarakkeita tai muuta niiden kokoa, jos tarvitset lisää tilaa. | AD2: <<
D3: =Controls!$C$88 -> Alla on taulukko urheilijoista, jotka osallistuivat 200 metrin juoksuun. | T3: Ylimääräinen esimerkki
D4: =Controls!$C$89 -> Taulukko 1 sisältää jokaisen urheilijan tulokset kolmessa kilpailun erässä. | N4: Manuaalisesti tuotettu lopputulos, joka oli riittävä tälle kierrokselle | T4: Kaavojen avulla tuotettu lopputulos (Country on kopioitu aineistoon ja poistettu duplikaatit)
T5: 4 | U5: 2 | V5: 3 | X5: 1 | Y5: < -- kaavojen luontijärjestys
D6: =Controls!$C$90 -> Luo uusi taulukko oikealla olevaan vastausosioon, joka sisältää tietoja vain jokaisen maan nopeimman tuloksen saaneesta urheilijasta. | N6: Round Number | O6: Athlete Number | P6: Name | Q6: Country | R6: Result Time (s) | T6: Round Number | U6: Athlete Number | V6: Name | W6: Country | X6: Result Time (s)
D7: =Controls!$C$92 -> Jokainen maa tulisi näkyä vain kerran taulukossasi. | N7: 3 | O7: 903 | P7: THOMPSON Elaine | Q7: JAM | R7: 21.78 | T7: {=INDEX( Kaikkien_erien_tulokset[Round Number], MATCH( 1, (Kaikkien_erien_tulokset[Country]=Taulukko13[[#This Row],[Country]]) * (Kaikkien_erien_tulokset[Result Time (s)]=Taulukko13[[#This Row],[Result Time (s)]]),0))} -> 3 | U7: {=INDEX( Kaikkien_erien_tulokset[Athlete Number], MATCH( 1, (Kaikkien_erien_tulokset[Country]=Taulukko13[[#This Row],[Country]]) * (Kaikkien_erien_tulokset[Result Time (s)]=Taulukko13[[#This Row],[Result Time (s)]]),0))} -> 903 | V7: =VLOOKUP( Taulukko13[[#This Row],[Athlete Number]], Kaikkien_erien_tulokset[[Athlete Number]:[Name]], 2, FALSE) -> THOMPSON Elaine | W7: JAM | X7: =_xlfn.MINIFS( Kaikkien_erien_tulokset[Result Time (s)], Kaikkien_erien_tulokset[Country], Taulukko13[[#This Row],[Country]]) -> 21.78
D8: =Controls!$C$93 -> Jokaista tulosta kohden listaa yhdelle riville urheilijan nimi, numero, maa, Erän numero ja loppuaika. | N8: 3 | O8: 1039 | P8: SCHIPPERS Dafne | Q8: NED | R8: 21.88 | T8: {=INDEX( Kaikkien_erien_tulokset[Round Number], MATCH( 1, (Kaikkien_erien_tulokset[Country]=Taulukko13[[#This Row],[Country]]) * (Kaikkien_erien_tulokset[Result Time (s)]=Taulukko13[[#This Row],[Result Time (s)]]),0))} -> 3 | U8: {=INDEX( Kaikkien_erien_tulokset[Athlete Number], MATCH( 1, (Kaikkien_erien_tulokset[Country]=Taulukko13[[#This Row],[Country]]) * (Kaikkien_erien_tulokset[Result Time (s)]=Taulukko13[[#This Row],[Result Time (s)]]),0))} -> 1039 | V8: =VLOOKUP( Taulukko13[[#This Row],[Athlete Number]], Kaikkien_erien_tulokset[[Athlete Number]:[Name]], 2, FALSE) -> SCHIPPERS Dafne | W8: NED | X8: =_xlfn.MINIFS( Kaikkien_erien_tulokset[Result Time (s)], Kaikkien_erien_tulokset[Country], Taulukko13[[#This Row],[Country]]) -> 21.88
D9: =Controls!$C$94 -> Maat pitää olla lajiteltuina loppuaikojen perusteella (nopein loppuaika ensin ja hitain loppuaika viimeiseksi) | N9: 2 | O9: 1326 | P9: BOWIE Tori | Q9: USA | R9: 22.13 | T9: {=INDEX( Kaikkien_erien_tulokset[Round Number], MATCH( 1, (Kaikkien_erien_tulokset[Country]=Taulukko13[[#This Row],[Country]]) * (Kaikkien_erien_tulokset[Result Time (s)]=Taulukko13[[#This Row],[Result Time (s)]]),0))} -> 2 | U9: {=INDEX( Kaikkien_erien_tulokset[Athlete Number], MATCH( 1, (Kaikkien_erien_tulokset[Country]=Taulukko13[[#This Row],[Country]]) * (Kaikkien_erien_tulokset[Result Time (s)]=Taulukko13[[#This Row],[Result Time (s)]]),0))} -> 1326 | V9: =VLOOKUP( Taulukko13[[#This Row],[Athlete Number]], Kaikkien_erien_tulokset[[Athlete Number]:[Name]], 2, FALSE) -> BOWIE Tori | W9: USA | X9: =_xlfn.MINIFS( Kaikkien_erien_tulokset[Result Time (s)], Kaikkien_erien_tulokset[Country], Taulukko13[[#This Row],[Country]]) -> 22.13
D10: =Controls!$C$95 -> Jos mailla on sama loppuaika, niin edelleen lajittele maat urheilijan numeron perusteella (pienin numero ensin) | N10: 3 | O10: 540 | P10: TA LOU Marie-Josee | Q10: CIV | R10: 22.21 | T10: {=INDEX( Kaikkien_erien_tulokset[Round Number], MATCH( 1, (Kaikkien_erien_tulokset[Country]=Taulukko13[[#This Row],[Country]]) * (Kaikkien_erien_tulokset[Result Time (s)]=Taulukko13[[#This Row],[Result Time (s)]]),0))} -> 3 | U10: {=INDEX( Kaikkien_erien_tulokset[Athlete Number], MATCH( 1, (Kaikkien_erien_tulokset[Country]=Taulukko13[[#This Row],[Country]]) * (Kaikkien_erien_tulokset[Result Time (s)]=Taulukko13[[#This Row],[Result Time (s)]]),0))} -> 540 | V10: =VLOOKUP( Taulukko13[[#This Row],[Athlete Number]], Kaikkien_erien_tulokset[[Athlete Number]:[Name]], 2, FALSE) -> TA LOU Marie-Josee | W10: CIV | X10: =_xlfn.MINIFS( Kaikkien_erien_tulokset[Result Time (s)], Kaikkien_erien_tulokset[Country], Taulukko13[[#This Row],[Country]]) -> 22.21
D11: =Controls!$C$96 -> Taulukkosi tiedot pitää olla TÄSMÄLLEEN samoin kuin annetuissa tietotaulukoissa. | N11: 2 | O11: 1245 | P11: AHYE Michelle-Lee | Q11: TTO | R11: 22.25 | T11: {=INDEX( Kaikkien_erien_tulokset[Round Number], MATCH( 1, (Kaikkien_erien_tulokset[Country]=Taulukko13[[#This Row],[Country]]) * (Kaikkien_erien_tulokset[Result Time (s)]=Taulukko13[[#This Row],[Result Time (s)]]),0))} -> 2 | U11: {=INDEX( Kaikkien_erien_tulokset[Athlete Number], MATCH( 1, (Kaikkien_erien_tulokset[Country]=Taulukko13[[#This Row],[Country]]) * (Kaikkien_erien_tulokset[Result Time (s)]=Taulukko13[[#This Row],[Result Time (s)]]),0))} -> 1245 | V11: =VLOOKUP( Taulukko13[[#This Row],[Athlete Number]], Kaikkien_erien_tulokset[[Athlete Number]:[Name]], 2, FALSE) -> AHYE Michelle-Lee | W11: TTO | X11: =_xlfn.MINIFS( Kaikkien_erien_tulokset[Result Time (s)], Kaikkien_erien_tulokset[Country], Taulukko13[[#This Row],[Country]]) -> 22.25
N12: 3 | O12: 695 | P12: ASHER-SMITH Dina | Q12: GBR | R12: 22.31 | T12: {=INDEX( Kaikkien_erien_tulokset[Round Number], MATCH( 1, (Kaikkien_erien_tulokset[Country]=Taulukko13[[#This Row],[Country]]) * (Kaikkien_erien_tulokset[Result Time (s)]=Taulukko13[[#This Row],[Result Time (s)]]),0))} -> 3 | U12: {=INDEX( Kaikkien_erien_tulokset[Athlete Number], MATCH( 1, (Kaikkien_erien_tulokset[Country]=Taulukko13[[#This Row],[Country]]) * (Kaikkien_erien_tulokset[Result Time (s)]=Taulukko13[[#This Row],[Result Time (s)]]),0))} -> 695 | V12: =VLOOKUP( Taulukko13[[#This Row],[Athlete Number]], Kaikkien_erien_tulokset[[Athlete Number]:[Name]], 2, FALSE) -> ASHER-SMITH Dina | W12: GBR | X12: =_xlfn.MINIFS( Kaikkien_erien_tulokset[Result Time (s)], Kaikkien_erien_tulokset[Country], Taulukko13[[#This Row],[Country]]) -> 22.31
D13: =Controls!$C$97&" "&Controls!$C$98 -> Tietolähde: https://smsprio2016-a.akamaihd.net/_sport/R/i/Rio_2016_Athletics_Results_Book_V1.0.pdf | N13: 2 | O13: 458 | P13: LALOVA-COLLIO Ivet | Q13: BUL | R13: 22.42 | T13: {=INDEX( Kaikkien_erien_tulokset[Round Number], MATCH( 1, (Kaikkien_erien_tulokset[Country]=Taulukko13[[#This Row],[Country]]) * (Kaikkien_erien_tulokset[Result Time (s)]=Taulukko13[[#This Row],[Result Time (s)]]),0))} -> 2 | U13: {=INDEX( Kaikkien_erien_tulokset[Athlete Number], MATCH( 1, (Kaikkien_erien_tulokset[Country]=Taulukko13[[#This Row],[Country]]) * (Kaikkien_erien_tulokset[Result Time (s)]=Taulukko13[[#This Row],[Result Time (s)]]),0))} -> 458 | V13: =VLOOKUP( Taulukko13[[#This Row],[Athlete Number]], Kaikkien_erien_tulokset[[Athlete Number]:[Name]], 2, FALSE) -> LALOVA-COLLIO Ivet | W13: BUL | X13: =_xlfn.MINIFS( Kaikkien_erien_tulokset[Result Time (s)], Kaikkien_erien_tulokset[Country], Taulukko13[[#This Row],[Country]]) -> 22.42
N14: 2 | O14: 334 | P14: NELSON Ella | Q14: AUS | R14: 22.5 | T14: {=INDEX( Kaikkien_erien_tulokset[Round Number], MATCH( 1, (Kaikkien_erien_tulokset[Country]=Taulukko13[[#This Row],[Country]]) * (Kaikkien_erien_tulokset[Result Time (s)]=Taulukko13[[#This Row],[Result Time (s)]]),0))} -> 2 | U14: {=INDEX( Kaikkien_erien_tulokset[Athlete Number], MATCH( 1, (Kaikkien_erien_tulokset[Country]=Taulukko13[[#This Row],[Country]]) * (Kaikkien_erien_tulokset[Result Time (s)]=Taulukko13[[#This Row],[Result Time (s)]]),0))} -> 334 | V14: =VLOOKUP( Taulukko13[[#This Row],[Athlete Number]], Kaikkien_erien_tulokset[[Athlete Number]:[Name]], 2, FALSE) -> NELSON Ella | W14: AUS | X14: =_xlfn.MINIFS( Kaikkien_erien_tulokset[Result Time (s)], Kaikkien_erien_tulokset[Country], Taulukko13[[#This Row],[Country]]) -> 22.5
D15: =Controls!$C$99 -> Taulukko 1: Kaikkien erien tulokset | N15: 1 | O15: 1300 | P15: POHREBNIAK Natalia | Q15: UKR | R15: 22.64 | T15: {=INDEX( Kaikkien_erien_tulokset[Round Number], MATCH( 1, (Kaikkien_erien_tulokset[Country]=Taulukko13[[#This Row],[Country]]) * (Kaikkien_erien_tulokset[Result Time (s)]=Taulukko13[[#This Row],[Result Time (s)]]),0))} -> 1 | U15: {=INDEX( Kaikkien_erien_tulokset[Athlete Number], MATCH( 1, (Kaikkien_erien_tulokset[Country]=Taulukko13[[#This Row],[Country]]) * (Kaikkien_erien_tulokset[Result Time (s)]=Taulukko13[[#This Row],[Result Time (s)]]),0))} -> 1300 | V15: =VLOOKUP( Taulukko13[[#This Row],[Athlete Number]], Kaikkien_erien_tulokset[[Athlete Number]:[Name]], 2, FALSE) -> POHREBNIAK Natalia | W15: UKR | X15: =_xlfn.MINIFS( Kaikkien_erien_tulokset[Result Time (s)], Kaikkien_erien_tulokset[Country], Taulukko13[[#This Row],[Country]]) -> 22.64
D16: =Controls!$C$100 -> Erän numero | E16: =Controls!$C$101 -> Urheilijan numero | F16: =Controls!$C$102 -> Nimi | G16: =Controls!$C$103 -> Maa | H16: =Controls!$C$104 -> Loppuaika (s) | N16: 2 | O16: 1059 | P16: OKAGBARE Blessing | Q16: NGR | R16: 22.69 | T16: {=INDEX( Kaikkien_erien_tulokset[Round Number], MATCH( 1, (Kaikkien_erien_tulokset[Country]=Taulukko13[[#This Row],[Country]]) * (Kaikkien_erien_tulokset[Result Time (s)]=Taulukko13[[#This Row],[Result Time (s)]]),0))} -> 2 | U16: {=INDEX( Kaikkien_erien_tulokset[Athlete Number], MATCH( 1, (Kaikkien_erien_tulokset[Country]=Taulukko13[[#This Row],[Country]]) * (Kaikkien_erien_tulokset[Result Time (s)]=Taulukko13[[#This Row],[Result Time (s)]]),0))} -> 1059 | V16: =VLOOKUP( Taulukko13[[#This Row],[Athlete Number]], Kaikkien_erien_tulokset[[Athlete Number]:[Name]], 2, FALSE) -> OKAGBARE Blessing | W16: NGR | X16: =_xlfn.MINIFS( Kaikkien_erien_tulokset[Result Time (s)], Kaikkien_erien_tulokset[Country], Taulukko13[[#This Row],[Country]]) -> 22.69
D17: Round Number | E17: Athlete Number | F17: Name | G17: Country | H17: Result Time (s) | N17: 2 | O17: 762 | P17: LUCKENKEMPER Gina | Q17: GER | R17: 22.73 | T17: {=INDEX( Kaikkien_erien_tulokset[Round Number], MATCH( 1, (Kaikkien_erien_tulokset[Country]=Taulukko13[[#This Row],[Country]]) * (Kaikkien_erien_tulokset[Result Time (s)]=Taulukko13[[#This Row],[Result Time (s)]]),0))} -> 2 | U17: {=INDEX( Kaikkien_erien_tulokset[Athlete Number], MATCH( 1, (Kaikkien_erien_tulokset[Country]=Taulukko13[[#This Row],[Country]]) * (Kaikkien_erien_tulokset[Result Time (s)]=Taulukko13[[#This Row],[Result Time (s)]]),0))} -> 762 | V17: =VLOOKUP( Taulukko13[[#This Row],[Athlete Number]], Kaikkien_erien_tulokset[[Athlete Number]:[Name]], 2, FALSE) -> LUCKENKEMPER Gina | W17: GER | X17: =_xlfn.MINIFS( Kaikkien_erien_tulokset[Result Time (s)], Kaikkien_erien_tulokset[Country], Taulukko13[[#This Row],[Country]]) -> 22.73
D18: 3 | E18: 903 | F18: THOMPSON Elaine | G18: JAM | H18: 21.78 | N18: 1 | O18: 454 | P18: ODIONG Edidiong Ofonime | Q18: BRN | R18: 22.74 | T18: {=INDEX( Kaikkien_erien_tulokset[Round Number], MATCH( 1, (Kaikkien_erien_tulokset[Country]=Taulukko13[[#This Row],[Country]]) * (Kaikkien_erien_tulokset[Result Time (s)]=Taulukko13[[#This Row],[Result Time (s)]]),0))} -> 1 | U18: {=INDEX( Kaikkien_erien_tulokset[Athlete Number], MATCH( 1, (Kaikkien_erien_tulokset[Country]=Taulukko13[[#This Row],[Country]]) * (Kaikkien_erien_tulokset[Result Time (s)]=Taulukko13[[#This Row],[Result Time (s)]]),0))} -> 454 | V18: =VLOOKUP( Taulukko13[[#This Row],[Athlete Number]], Kaikkien_erien_tulokset[[Athlete Number]:[Name]], 2, FALSE) -> ODIONG Edidiong Ofonime | W18: BRN | X18: =_xlfn.MINIFS( Kaikkien_erien_tulokset[Result Time (s)], Kaikkien_erien_tulokset[Country], Taulukko13[[#This Row],[Country]]) -> 22.74
D19: 3 | E19: 1039 | F19: SCHIPPERS Dafne | G19: NED | H19: 21.88 | N19: 1 | O19: 1206 | P19: KAMBUNDJI Mujinga | Q19: SUI | R19: 22.78 | T19: {=INDEX( Kaikkien_erien_tulokset[Round Number], MATCH( 1, (Kaikkien_erien_tulokset[Country]=Taulukko13[[#This Row],[Country]]) * (Kaikkien_erien_tulokset[Result Time (s)]=Taulukko13[[#This Row],[Result Time (s)]]),0))} -> 1 | U19: {=INDEX( Kaikkien_erien_tulokset[Athlete Number], MATCH( 1, (Kaikkien_erien_tulokset[Country]=Taulukko13[[#This Row],[Country]]) * (Kaikkien_erien_tulokset[Result Time (s)]=Taulukko13[[#This Row],[Result Time (s)]]),0))} -> 1206 | V19: =VLOOKUP( Taulukko13[[#This Row],[Athlete Number]], Kaikkien_erien_tulokset[[Athlete Number]:[Name]], 2, FALSE) -> KAMBUNDJI Mujinga | W19: SUI | X19: =_xlfn.MINIFS( Kaikkien_erien_tulokset[Result Time (s)], Kaikkien_erien_tulokset[Country], Taulukko13[[#This Row],[Country]]) -> 22.78
D20: 3 | E20: 1326 | F20: BOWIE Tori | G20: USA | H20: 22.15 | N20: 1 | O20: 474 | P20: EMMANUEL Crystal | Q20: CAN | R20: 22.8 | T20: {=INDEX( Kaikkien_erien_tulokset[Round Number], MATCH( 1, (Kaikkien_erien_tulokset[Country]=Taulukko13[[#This Row],[Country]]) * (Kaikkien_erien_tulokset[Result Time (s)]=Taulukko13[[#This Row],[Result Time (s)]]),0))} -> 1 | U20: {=INDEX( Kaikkien_erien_tulokset[Athlete Number], MATCH( 1, (Kaikkien_erien_tulokset[Country]=Taulukko13[[#This Row],[Country]]) * (Kaikkien_erien_tulokset[Result Time (s)]=Taulukko13[[#This Row],[Result Time (s)]]),0))} -> 474 | V20: =VLOOKUP( Taulukko13[[#This Row],[Athlete Number]], Kaikkien_erien_tulokset[[Athlete Number]:[Name]], 2, FALSE) -> EMMANUEL Crystal | W20: CAN | X20: =_xlfn.MINIFS( Kaikkien_erien_tulokset[Result Time (s)], Kaikkien_erien_tulokset[Country], Taulukko13[[#This Row],[Country]]) -> 22.8
D21: 3 | E21: 540 | F21: TA LOU Marie-Josee | G21: CIV | H21: 22.21 | N21: 2 | O21: 1400 | P21: SOTO Nercely | Q21: VEN | R21: 22.88 | T21: {=INDEX( Kaikkien_erien_tulokset[Round Number], MATCH( 1, (Kaikkien_erien_tulokset[Country]=Taulukko13[[#This Row],[Country]]) * (Kaikkien_erien_tulokset[Result Time (s)]=Taulukko13[[#This Row],[Result Time (s)]]),0))} -> 2 | U21: {=INDEX( Kaikkien_erien_tulokset[Athlete Number], MATCH( 1, (Kaikkien_erien_tulokset[Country]=Taulukko13[[#This Row],[Country]]) * (Kaikkien_erien_tulokset[Result Time (s)]=Taulukko13[[#This Row],[Result Time (s)]]),0))} -> 1400 | V21: =VLOOKUP( Taulukko13[[#This Row],[Athlete Number]], Kaikkien_erien_tulokset[[Athlete Number]:[Name]], 2, FALSE) -> SOTO Nercely | W21: VEN | X21: =_xlfn.MINIFS( Kaikkien_erien_tulokset[Result Time (s)], Kaikkien_erien_tulokset[Country], Taulukko13[[#This Row],[Country]]) -> 22.88
D22: 3 | E22: 695 | F22: ASHER-SMITH Dina | G22: GBR | H22: 22.31 | N22: 1 | O22: 360 | P22: GAITHER Tynia | Q22: BAH | R22: 22.9 | T22: {=INDEX( Kaikkien_erien_tulokset[Round Number], MATCH( 1, (Kaikkien_erien_tulokset[Country]=Taulukko13[[#This Row],[Country]]) * (Kaikkien_erien_tulokset[Result Time (s)]=Taulukko13[[#This Row],[Result Time (s)]]),0))} -> 1 | U22: {=INDEX( Kaikkien_erien_tulokset[Athlete Number], MATCH( 1, (Kaikkien_erien_tulokset[Country]=Taulukko13[[#This Row],[Country]]) * (Kaikkien_erien_tulokset[Result Time (s)]=Taulukko13[[#This Row],[Result Time (s)]]),0))} -> 360 | V22: =VLOOKUP( Taulukko13[[#This Row],[Athlete Number]], Kaikkien_erien_tulokset[[Athlete Number]:[Name]], 2, FALSE) -> GAITHER Tynia | W22: BAH | X22: =_xlfn.MINIFS( Kaikkien_erien_tulokset[Result Time (s)], Kaikkien_erien_tulokset[Country], Taulukko13[[#This Row],[Country]]) -> 22.9
D23: 3 | E23: 1245 | F23: AHYE Michelle-Lee | G23: TTO | H23: 22.34 | N23: 1 | O23: 613 | P23: TENORIO Angela | Q23: ECU | R23: 22.94 | T23: {=INDEX( Kaikkien_erien_tulokset[Round Number], MATCH( 1, (Kaikkien_erien_tulokset[Country]=Taulukko13[[#This Row],[Country]]) * (Kaikkien_erien_tulokset[Result Time (s)]=Taulukko13[[#This Row],[Result Time (s)]]),0))} -> 1 | U23: {=INDEX( Kaikkien_erien_tulokset[Athlete Number], MATCH( 1, (Kaikkien_erien_tulokset[Country]=Taulukko13[[#This Row],[Country]]) * (Kaikkien_erien_tulokset[Result Time (s)]=Taulukko13[[#This Row],[Result Time (s)]]),0))} -> 613 | V23: =VLOOKUP( Taulukko13[[#This Row],[Athlete Number]], Kaikkien_erien_tulokset[[Athlete Number]:[Name]], 2, FALSE) -> TENORIO Angela | W23: ECU | X23: =_xlfn.MINIFS( Kaikkien_erien_tulokset[Result Time (s)], Kaikkien_erien_tulokset[Country], Taulukko13[[#This Row],[Country]]) -> 22.94
D24: 3 | E24: 1374 | F24: STEVENS Deajah | G24: USA | H24: 22.65 | N24: 1 | O24: 1103 | P24: KIELBASINSKA Anna | Q24: POL | R24: 22.95 | T24: {=INDEX( Kaikkien_erien_tulokset[Round Number], MATCH( 1, (Kaikkien_erien_tulokset[Country]=Taulukko13[[#This Row],[Country]]) * (Kaikkien_erien_tulokset[Result Time (s)]=Taulukko13[[#This Row],[Result Time (s)]]),0))} -> 1 | U24: {=INDEX( Kaikkien_erien_tulokset[Athlete Number], MATCH( 1, (Kaikkien_erien_tulokset[Country]=Taulukko13[[#This Row],[Country]]) * (Kaikkien_erien_tulokset[Result Time (s)]=Taulukko13[[#This Row],[Result Time (s)]]),0))} -> 1103 | V24: =VLOOKUP( Taulukko13[[#This Row],[Athlete Number]], Kaikkien_erien_tulokset[[Athlete Number]:[Name]], 2, FALSE) -> KIELBASINSKA Anna | W24: POL | X24: =_xlfn.MINIFS( Kaikkien_erien_tulokset[Result Time (s)], Kaikkien_erien_tulokset[Country], Taulukko13[[#This Row],[Country]]) -> 22.95
D25: 3 | E25: 458 | F25: LALOVA-COLLIO Ivet | G25: BUL | H25: 22.69 | N25: 1 | O25: 1143 | P25: MORALES Celiangeli | Q25: PUR | R25: 23 | T25: {=INDEX( Kaikkien_erien_tulokset[Round Number], MATCH( 1, (Kaikkien_erien_tulokset[Country]=Taulukko13[[#This Row],[Country]]) * (Kaikkien_erien_tulokset[Result Time (s)]=Taulukko13[[#This Row],[Result Time (s)]]),0))} -> 1 | U25: {=INDEX( Kaikkien_erien_tulokset[Athlete Number], MATCH( 1, (Kaikkien_erien_tulokset[Country]=Taulukko13[[#This Row],[Country]]) * (Kaikkien_erien_tulokset[Result Time (s)]=Taulukko13[[#This Row],[Result Time (s)]]),0))} -> 1143 | V25: =VLOOKUP( Taulukko13[[#This Row],[Athlete Number]], Kaikkien_erien_tulokset[[Athlete Number]:[Name]], 2, FALSE) -> MORALES Celiangeli | W25: PUR | X25: =_xlfn.MINIFS( Kaikkien_erien_tulokset[Result Time (s)], Kaikkien_erien_tulokset[Country], Taulukko13[[#This Row],[Country]]) -> 23
D26: 2 | E26: 1039 | F26: SCHIPPERS Dafne | G26: NED | H26: 21.96 | N26: 1 | O26: 1127 | P26: BAZOLO Lorene Dorcas | Q26: POR | R26: 23.01 | T26: {=INDEX( Kaikkien_erien_tulokset[Round Number], MATCH( 1, (Kaikkien_erien_tulokset[Country]=Taulukko13[[#This Row],[Country]]) * (Kaikkien_erien_tulokset[Result Time (s)]=Taulukko13[[#This Row],[Result Time (s)]]),0))} -> 1 | U26: {=INDEX( Kaikkien_erien_tulokset[Athlete Number], MATCH( 1, (Kaikkien_erien_tulokset[Country]=Taulukko13[[#This Row],[Country]]) * (Kaikkien_erien_tulokset[Result Time (s)]=Taulukko13[[#This Row],[Result Time (s)]]),0))} -> 1127 | V26: =VLOOKUP( Taulukko13[[#This Row],[Athlete Number]], Kaikkien_erien_tulokset[[Athlete Number]:[Name]], 2, FALSE) -> BAZOLO Lorene Dorcas | W26: POR | X26: =_xlfn.MINIFS( Kaikkien_erien_tulokset[Result Time (s)], Kaikkien_erien_tulokset[Country], Taulukko13[[#This Row],[Country]]) -> 23.01
D27: 2 | E27: 903 | F27: THOMPSON Elaine | G27: JAM | H27: 22.13 | N27: 1 | O27: 864 | P27: HOOPER Gloria | Q27: ITA | R27: 23.05 | T27: {=INDEX( Kaikkien_erien_tulokset[Round Number], MATCH( 1, (Kaikkien_erien_tulokset[Country]=Taulukko13[[#This Row],[Country]]) * (Kaikkien_erien_tulokset[Result Time (s)]=Taulukko13[[#This Row],[Result Time (s)]]),0))} -> 1 | U27: {=INDEX( Kaikkien_erien_tulokset[Athlete Number], MATCH( 1, (Kaikkien_erien_tulokset[Country]=Taulukko13[[#This Row],[Country]]) * (Kaikkien_erien_tulokset[Result Time (s)]=Taulukko13[[#This Row],[Result Time (s)]]),0))} -> 864 | V27: =VLOOKUP( Taulukko13[[#This Row],[Athlete Number]], Kaikkien_erien_tulokset[[Athlete Number]:[Name]], 2, FALSE) -> HOOPER Gloria | W27: ITA | X27: =_xlfn.MINIFS( Kaikkien_erien_tulokset[Result Time (s)], Kaikkien_erien_tulokset[Country], Taulukko13[[#This Row],[Country]]) -> 23.05
D28: 2 | E28: 1374 | F28: STEVENS Deajah | G28: USA | H28: 22.38 | N28: 1 | O28: 439 | P28: VENANCIO Kauiza | Q28: BRA | R28: 23.06 | T28: {=INDEX( Kaikkien_erien_tulokset[Round Number], MATCH( 1, (Kaikkien_erien_tulokset[Country]=Taulukko13[[#This Row],[Country]]) * (Kaikkien_erien_tulokset[Result Time (s)]=Taulukko13[[#This Row],[Result Time (s)]]),0))} -> 1 | U28: {=INDEX( Kaikkien_erien_tulokset[Athlete Number], MATCH( 1, (Kaikkien_erien_tulokset[Country]=Taulukko13[[#This Row],[Country]]) * (Kaikkien_erien_tulokset[Result Time (s)]=Taulukko13[[#This Row],[Result Time (s)]]),0))} -> 439 | V28: =VLOOKUP( Taulukko13[[#This Row],[Athlete Number]], Kaikkien_erien_tulokset[[Athlete Number]:[Name]], 2, FALSE) -> VENANCIO Kauiza | W28: BRA | X28: =_xlfn.MINIFS( Kaikkien_erien_tulokset[Result Time (s)], Kaikkien_erien_tulokset[Country], Taulukko13[[#This Row],[Country]]) -> 23.06
D29: 2 | E29: 695 | F29: ASHER-SMITH Dina | G29: GBR | H29: 22.49 | N29: 1 | O29: 589 | P29: PAPAIOANNOU Ramona | Q29: CYP | R29: 23.1 | T29: {=INDEX( Kaikkien_erien_tulokset[Round Number], MATCH( 1, (Kaikkien_erien_tulokset[Country]=Taulukko13[[#This Row],[Country]]) * (Kaikkien_erien_tulokset[Result Time (s)]=Taulukko13[[#This Row],[Result Time (s)]]),0))} -> 1 | U29: {=INDEX( Kaikkien_erien_tulokset[Athlete Number], MATCH( 1, (Kaikkien_erien_tulokset[Country]=Taulukko13[[#This Row],[Country]]) * (Kaikkien_erien_tulokset[Result Time (s)]=Taulukko13[[#This Row],[Result Time (s)]]),0))} -> 589 | V29: =VLOOKUP( Taulukko13[[#This Row],[Athlete Number]], Kaikkien_erien_tulokset[[Athlete Number]:[Name]], 2, FALSE) -> PAPAIOANNOU Ramona | W29: CYP | X29: =_xlfn.MINIFS( Kaikkien_erien_tulokset[Result Time (s)], Kaikkien_erien_tulokset[Country], Taulukko13[[#This Row],[Country]]) -> 23.1
... D55: 1 | E55: 539 | F55: AHOURE Murielle | G55: CIV | H55: 22.52 | N55: 1 | O55: 455 | P55: ABDUL RAHIM Maizurah | Q55: BRU | R55: 28.02 | T55: {=INDEX( Kaikkien_erien_tulokset[Round Number], MATCH( 1, (Kaikkien_erien_tulokset[Country]=Taulukko13[[#This Row],[Country]]) * (Kaikkien_erien_tulokset[Result Time (s)]=Taulukko13[[#This Row],[Result Time (s)]]),0))} -> 1 | U55: {=INDEX( Kaikkien_erien_tulokset[Athlete Number], MATCH( 1, (Kaikkien_erien_tulokset[Country]=Taulukko13[[#This Row],[Country]]) * (Kaikkien_erien_tulokset[Result Time (s)]=Taulukko13[[#This Row],[Result Time (s)]]),0))} -> 455 | V55: =VLOOKUP( Taulukko13[[#This Row],[Athlete Number]], Kaikkien_erien_tulokset[[Athlete Number]:[Name]], 2, FALSE) -> ABDUL RAHIM Maizurah | W55: BRU | X55: =_xlfn.MINIFS( Kaikkien_erien_tulokset[Result Time (s)], Kaikkien_erien_tulokset[Country], Taulukko13[[#This Row],[Country]]) -> 28.02
D56: 1 | E56: 458 | F56: LALOVA-COLLIO Ivet | G56: BUL | H56: 22.61
D57: 1 | E57: 1365 | F57: PRANDINI Jenna | G57: USA | H57: 22.62
D58: 1 | E58: 903 | F58: THOMPSON Elaine | G58: JAM | H58: 22.63
D59: 1 | E59: 1300 | F59: POHREBNIAK Natalia | G59: UKR | H59: 22.64
D60: 1 | E60: 334 | F60: NELSON Ella | G60: AUS | H60: 22.66
D61: 1 | E61: 731 | F61: WILLIAMS Jodie | G61: GBR | H61: 22.69
D62: 1 | E62: 1059 | F62: OKAGBARE Blessing | G62: NGR | H62: 22.71
D63: 1 | E63: 454 | F63: ODIONG Edidiong Ofonime | G63: BRN | H63: 22.74
D64: 1 | E64: 695 | F64: ASHER-SMITH Dina | G64: GBR | H64: 22.77
D65: 1 | E65: 885 | F65: FACEY Simone | G65: JAM | H65: 22.78
...

Sheet 02
L1: >> | M1: =Controls!$C$57 -> Vastausosio | AD1: <<
D2: =Controls!$C$108 -> Rytminen kaaviovoimistelu | L2: >> | M2: =Controls!$C$58 -> Kaikkien vastausten pitää olla näiden sarakkeiden välissä. Lisää väliin sarakkeita tai muuta niiden kokoa, jos tarvitset lisää tilaa. | AD2: <<
D3: =Controls!$C$109 -> Alla oleva taulukko sisältää historiallista tietoa olympialaisista.
D4: =Controls!$C$110 -> Visualisoi tietoa oikealla olevaan vastausosioon niin, että se kaikkein havainnollisimmalla tavalla esittää olympialaisten muutosta vuosien varrella.
D5: =Controls!$C$111 -> Visualisointisi arvostellaan sen perusteella, kuinka hyvin se kuvaa annettua tietoa ja miten näyttävä se on.
D6: =Controls!$C$112 -> Muista tallentaa kaaviosi kuva ja ladata se Excel-yhteisön sivulle.
D7: =Controls!$C$113 -> Yksityiskohtaiset ohjeet kuvan julkaisemiseksi löydät tämän työkirjan taulukosta "04".
D9: =Controls!$C$114 -> Vuoden | E9: =Controls!$C$115 -> Osallistuvat maat | F9: =Controls!$C$116 -> Tapahtumat | G9: =Controls!$C$117 -> Kilpailijat (miehet) | H9: =Controls!$C$118 -> Kilpailijat (naiset)
D10: Year | E10: Participating Countries | F10: Events | G10: Competitors (Men) | H10: Competitors (Women)
D11: 1896 | E11: 14 | F11: 43 | G11: 241 | H11: 0
D12: 1900 | E12: 24 | F12: 85 | G12: 975 | H12: 22
D13: 1904 | E13: 12 | F13: 94 | G13: 645 | H13: 6
D14: 1908 | E14: 22 | F14: 110 | G14: 1971 | H14: 37
D15: 1912 | E15: 28 | F15: 102 | G15: 2359 | H15: 48
D16: 1920 | E16: 29 | F16: 156 | G16: 2561 | H16: 65
D17: 1924 | E17: 44 | F17: 126 | G17: 2954 | H17: 135
D18: 1928 | E18: 46 | F18: 109 | G18: 2606 | H18: 277
D19: 1932 | E19: 37 | F19: 117 | G19: 1206 | H19: 126
D20: 1936 | E20: 49 | F20: 129 | G20: 3632 | H20: 331
D21: 1948 | E21: 59 | F21: 136 | G21: 3714 | H21: 390
D22: 1952 | E22: 69 | F22: 149 | G22: 4436 | H22: 519
... D37: 2012 | E37: 204 | F37: 302 | G37: 5992 | H37: 4776

Sheet 03
O1: >> | P1: =Controls!$C$59 -> Työtila | AG1: <<
D2: =Controls!$C$121 -> Kaavapaini | O2: >> | P2: =Controls!$C$60 -> Käytä tätä tilaa mahdollisiin lisälaskelmiin. Lisää väliin sarakkeita tai muuta niiden kokoa, jos tarvitset lisää tilaa. | AG2: <<
D3: =Controls!$C$122 -> Vastaa seuraavaiin kysymyksiin käyttämällä alla olevaa tietoa.
D4: =Controls!$C$123 -> Käytä kaavoja, jotta vastauksesi päivittyy automaattisesti mikäli tiedot muuttuvat.
D5: =Controls!$C$124 -> Voit käyttää oikealla olevaa Työtilaa mahdollisiin vastaustasi tukeviin laskelmiin.
D6: =Controls!$C$125 -> Vastaustesi kaavat voivat viitata Työtilan laskelmiin. | Q6: Johnnie Thomas on laatinut alapuolelle myös joitakin vaihtoehtoisia tapoja laskea tuloksia:
D7: =Controls!$C$126 -> Vastauksesi arvostellaan sen mukaan, kuinka täsmällisesti ne vastaavat annettuihin kysymyksiin vaikka tiedot muuttuisivat.
D8: =Controls!$C$127 -> Saat enemmän pisteitä käyttämällä vähemmän funktioita ja matemaattisia operaattoreita, joten ole mahdollisimman luova vastatessasi!
Q9: Kysymys 1 - ilman KESKIARVO (AVERAGE) -funktiota
D10: =Controls!$C$128 -> Kysymykset | L10: =Controls!$C$129 -> Answer | Q10: Aikojen summa | R10: Aikojen lkm | S10: Keskiarvo
D11: 1 | E11: =Controls!$C$130 -> Mikä oli kaikkien kilpailun erien loppuaikojen keskiarvo? | L11: =AVERAGE( H20:J95 ) -> 20.502222 | Q11: =SUM( H20:J95 ) -> 2214.24 | R11: =COUNT( H20:J95 ) -> 108 | S11: =Q11 / R11 -> 20.502222
D12: 2 | E12: =Controls!$C$131 -> Mikä oli nuorimman kilpailijan ikä? | L12: =MIN( G20:G95 ) -> 18.28
D13: 3 | E13: =Controls!$C$132 -> Kuinka moni kilpailijoista oli 25-vuotias tai nuorempi? | L13: =COUNTIFS( G20:G95, "<=25" ) -> 33 | Z13: Lisätietoja alla olevasta laske.jos -esimerkistä:
D14: 4 | E14: =Controls!$C$133 -> Mikä oli kaikkein nopein loppuaika (missä tahansa erässä) alle 25-vuotialle kilpailijalle? | L14: =MIN( U20:W20 ) -> 19.8 | Z14: https://hexcelligent.fi/2014/01/30/yksilollisten-arvojen-maara-osa-1-excel/
D15: 5 | E15: =Controls!$C$134 -> Kuinka monta eri maata osallistui kilpailuun? | L15: =SUMPRODUCT( 1 / COUNTIF( F20:F95, F20:F95 ) ) -> 48 | Q15: Kysymys 3 - Useiden JOS (IF) -funktioiden käyttö
S16: Kysymys 4 - useiden JOS (IF) -funktioiden käyttö | Z16: Kysymys 5 - LASKE.JOS (COUNTIF) -funktion käyttö
Q17: 25 tai nuorempien lkm | S17: Pienin alle 25-vuotiaiden aika | U17: Question 4 - Useiden JOS (IF) -funktioiden käyttö
H18: =Controls!$C$135 -> Loppuaika (s) | Q18: =SUM( Q20:Q95 ) -> 33 | S18: =MIN( S20:S95 ) -> 19.8 | U18: Pienin aika jokaisessa erässä alle 25-vuotiaista | Z18: =SUM( Z20:Z95 ) -> 48
E19: =Controls!$C$136 -> Nimi | F19: =Controls!$C$137 -> Maa | G19: =Controls!$C$138 -> Ikä | H19: =Controls!$C$139 -> Erä 1 | I19: =Controls!$C$140 -> Erä 2 | J19: =Controls!$C$141 -> Erä 3 | Q19: 25 tai nuorempi | S19: Alle 25-vuotiaiden pienimmät ajat | U19: Erä1 | V19: Erä 2 | W19: Erä 3 | Z19: LASKE.JOS (COUNTIF)
E20: BOLT Usain | F20: JAM | G20: 30.01 | H20: 20.28 | I20: 19.78 | J20: 19.78 | Q20: =IF(G20<=25, 1, 0) -> 0 | S20: =IF(G20<25, MIN(H20:J20), "") | U20: =_xlfn.MINIFS(H20:H95, $G20:$G95, "<25") -> 20.09 | V20: =_xlfn.MINIFS(I20:I95, $G20:$G95, "<25") -> 19.8 | W20: =_xlfn.MINIFS(J20:J95, $G20:$G95, "<25") -> 20.02 | Z20: =1/COUNTIF( $F$20:$F$95, F20) -> 0.33333333
E21: de GRASSE Andre | F21: CAN | G21: 21.79 | H21: 20.09 | I21: 19.8 | J21: 20.02 | Q21: =IF(G21<=25, 1, 0) -> 1 | S21: =IF(G21<25, MIN(H21:J21), "") -> 19.8 | Z21: =1/COUNTIF( $F$20:$F$95, F21) -> 0.33333333
E22: LEMAITRE Christophe | F22: FRA | G22: 26.21 | H22: 20.28 | I22: 20.01 | J22: 20.12 | Q22: =IF(G22<=25, 1, 0) -> 0 | S22: =IF(G22<25, MIN(H22:J22), "") | Z22: =1/COUNTIF( $F$20:$F$95, F22) -> 1
E23: GEMILI Adam | F23: GBR | G23: 22.88 | H23: 20.2 | I23: 20.08 | J23: 20.12 | Q23: =IF(G23<=25, 1, 0) -> 1 | S23: =IF(G23<25, MIN(H23:J23), "") -> 20.08 | Z23: =1/COUNTIF( $F$20:$F$95, F23) -> 0.33333333
E24: MARTINA Churandy | F24: NED | G24: 32.15 | H24: 20.29 | I24: 20.1 | J24: 20.13 | Q24: =IF(G24<=25, 1, 0) -> 0 | S24: =IF(G24<25, MIN(H24:J24), "") | Z24: =1/COUNTIF( $F$20:$F$95, F24) -> 0.5
E25: MERRITT Lashawn | F25: USA | G25: 30.16 | H25: 20.15 | I25: 19.94 | J25: 20.19 | Q25: =IF(G25<=25, 1, 0) -> 0 | S25: =IF(G25<25, MIN(H25:J25), "") | Z25: =1/COUNTIF( $F$20:$F$95, F25) -> 0.33333333
E26: EDWARD Alonso | F26: PAN | G26: 26.71 | H26: 20.19 | I26: 20.07 | J26: 20.23 | Q26: =IF(G26<=25, 1, 0) -> 0 | S26: =IF(G26<25, MIN(H26:J26), "") | Z26: =1/COUNTIF( $F$20:$F$95, F26) -> 1
E27: GULIYEV Ramil | F27: TUR | G27: 26.24 | H27: 20.23 | I27: 20.09 | J27: 20.43 | Q27: =IF(G27<=25, 1, 0) -> 0 | S27: =IF(G27<25, MIN(H27:J27), "") | Z27: =1/COUNTIF( $F$20:$F$95, F27) -> 0.5
E28: TALBOT Daniel | F28: GBR | G28: 25.32 | H28: 20.27 | I28: 20.25 | Q28: =IF(G28<=25, 1, 0) -> 0 | S28: =IF(G28<25, MIN(H28:J28), "") | Z28: =1/COUNTIF( $F$20:$F$95, F28) -> 0.33333333
E29: ASHMEADE Nickel | F29: JAM | G29: 26.38 | H29: 20.15 | I29: 20.31 | Q29: =IF(G29<=25, 1, 0) -> 0 | S29: =IF(G29<25, MIN(H29:J29), "") | Z29: =1/COUNTIF( $F$20:$F$95, F29) -> 0.33333333
E30: SORRILLO Rondel | F30: TTO | G30: 30.59 | H30: 20.27 | I30: 20.33 | Q30: =IF(G30<=25, 1, 0) -> 0 | S30: =IF(G30<25, MIN(H30:J30), "") | Z30: =1/COUNTIF( $F$20:$F$95, F30) -> 0.5
E31: BRENES Nery | F31: CRC | G31: 30.92 | H31: 20.2 | I31: 20.33 | Q31: =IF(G31<=25, 1, 0) -> 0 | S31: =IF(G31<25, MIN(H31:J31), "") | Z31: =1/COUNTIF( $F$20:$F$95, F31) -> 1
E32: BROWN Aaron | F32: CAN | G32: 24.24 | H32: 20.23 | I32: 20.37 | Q32: =IF(G32<=25, 1, 0) -> 1 | S32: =IF(G32<25, MIN(H32:J32), "") -> 20.23 | Z32: =1/COUNTIF( $F$20:$F$95, F32) -> 0.33333333
E33: HERRERA Jose Carlos | F33: MEX | G33: 30.55 | H33: 20.29 | I33: 20.48 | Q33: =IF(G33<=25, 1, 0) -> 0 | S33: =IF(G33<25, MIN(H33:J33), "") | Z33: =1/COUNTIF( $F$20:$F$95, F33) -> 1
E34: YAQOOB Salem Eid | F34: BRN | G34: 20.48 | H34: 20.19 | I34: 20.43 | Q34: =IF(G34<=25, 1, 0) -> 1 | S34: =IF(G34<25, MIN(H34:J34), "") -> 20.19 | Z34: =1/COUNTIF( $F$20:$F$95, F34) -> 1
E35: WEBB Ameer | F35: USA | G35: 25.44 | H35: 20.31 | I35: 20.43 | Q35: =IF(G35<=25, 1, 0) -> 0 | S35: =IF(G35<25, MIN(H35:J35), "") | Z35: =1/COUNTIF( $F$20:$F$95, F35) -> 0.33333333
E36: ODUDURU Ejowvokoghene | F36: NGR | G36: 19.88 | H36: 20.34 | I36: 20.59 | Q36: =IF(G36<=25, 1, 0) -> 1 | S36: =IF(G36<25, MIN(H36:J36), "") -> 20.34 | Z36: =1/COUNTIF( $F$20:$F$95, F36) -> 0.5
E37: SKYERS Roberto | F37: CUB | G37: 24.78 | H37: 20.44 | I37: 20.6 | Q37: =IF(G37<=25, 1, 0) -> 1 | S37: =IF(G37<25, MIN(H37:J37), "") -> 20.44 | Z37: =1/COUNTIF( $F$20:$F$95, F37) -> 0.5
E38: GATLIN Justin | F38: USA | G38: 34.54 | H38: 20.42 | I38: 20.13 | Q38: =IF(G38<=25, 1, 0) -> 0 | S38: =IF(G38<25, MIN(H38:J38), "") | Z38: =1/COUNTIF( $F$20:$F$95, F38) -> 0.33333333
E39: HORTELANO Bruno | F39: ESP | G39: 24.93 | H39: 20.12 | I39: 20.16 | Q39: =IF(G39<=25, 1, 0) -> 1 | S39: =IF(G39<25, MIN(H39:J39), "") -> 20.12 | Z39: =1/COUNTIF( $F$20:$F$95, F39) -> 1
... E43: GALVAN Matteo | F43: ITA | G43: 28 | H43: 20.58 | I43: 20.88 | Q43: =IF(G43<=25, 1, 0) -> 0 | S43: =IF(G43<25, MIN(H43:J43), "") | Z43: =1/COUNTIF( $F$20:$F$95, F43) -> 0.33333333
...

Sheet 04
C1: `
B2: =CompName -> #ExcelChampFI | E2: =Controls!$C$144 -> Valmista tuli! Nyt lähetä kisavastauksesi arvosteltavaksi.
E3: 1 | F3: =Controls!$C$145 -> Tallenna tämä valmis työkirja ".xlsx"-tyyppiseksi Excel-tiedostoksi.
E4: 2 | F4: =HYPERLINK(CompEmailURL,SUBSTITUTE(Controls!$C$146,"<CompEmail>",CompEmail)) -> Lähetä se sähköpostin liitteenä osoitteeseen ExcelChampFI@service.microsoft.com
F5: =Controls!$C$147 -> Huomaa! Varmista, että lähetät sähköpostin varmasti samasta osoitteesta, josta kirjaudut Excel-yhteisösivustolle ja jota olet käyttänyt mm. tykkäämiseen yhteisösivustolla.
E6: 3 | F6: =HYPERLINK(CompURL,SUBSTITUTE(Controls!$C$148,"<CompURL>",CompURL)) -> Julkaise Rytmisen kaavavoimistelun vastauksesi kuva sivulla http://aka.ms/ExcelChampFI
F7: =Controls!$C$149 -> Jokainen vastausajan sisällä saamasi tykkäys ("Like") yhteisösivustolla tuo sinulle lisäpisteitä lajin 2 ohjeiden mukaisesti. Katso alla olevat tarkemmat ohjeet julkaisemisesta.
E8: 4 | F8: =Controls!$C$150 -> Kiitos osallistumisestasi Excelin SM-kisoihin!
F9: =HYPERLINK(CompURL,SUBSTITUTE(Controls!$C$151,"<CompURL>",CompURL)) -> Käy tarkastamassa osoitteesta http://aka.ms/ExcelChampFI kisapäivitykset.
E11: =Controls!$C$152 -> Miten kuva julkaistaan Excel-yhteisösivulle
E12: 1 | F12: =HYPERLINK(CompURL,SUBSTITUTE(Controls!$C$153,"<CompURL>",CompURL)) -> Mene osoitteeseen http://aka.ms/ExcelChampFI (varmista, että ole kirjautuneena sisään)
E13: 2 | F13: =Controls!$C$154 -> Etsi viesti, josta latasit tämän tehtävätyökirjan.
E14: 3 | F14: =Controls!$C$155 -> Klikkaa "Reply"-painiketta
E20: 4 | F20: =Controls!$C$156 -> Klikkaa "Photos"-painiketta (kameraikoni)
E46: 5 | F46: =Controls!$C$157 -> Klikkaa "Choose Files"-painiketta.
E68: 6 | F68: =Controls!$C$158 -> Selaimeen avautuu ikkuna jossa voit valita kuvatiedoston, jonka haluat julkaista.
E69: 7 | F69: =Controls!$C$159 -> Kun kuvatiedosto on ladattu palveluun klikkaa "Done"-painiketta oikeassa alakulmassa.
E91: 8 | F91: =Controls!$C$160 -> Klikkaa "Post"-painiketta oikeassa alakulmassa julkaistaksesi kuvan.
E115: 9 | F115: =Controls!$C$161 -> Siinä kaikki! Kuvasi on nyt julkaistu yhteisöpalveluun.
